BEGIN:VCALENDAR
VERSION:2.0
PRODID:-//Calendario de Eventos Gran Canaria - ECPv6.15.17.1//NONSGML v1.0//EN
CALSCALE:GREGORIAN
METHOD:PUBLISH
X-WR-CALNAME:Calendario de Eventos Gran Canaria
X-ORIGINAL-URL:https://calendarioeventos.com/en
X-WR-CALDESC:Events for Calendario de Eventos Gran Canaria
REFRESH-INTERVAL;VALUE=DURATION:PT1H
X-Robots-Tag:noindex
X-PUBLISHED-TTL:PT1H
BEGIN:VTIMEZONE
TZID:Europe/London
BEGIN:DAYLIGHT
TZOFFSETFROM:+0000
TZOFFSETTO:+0100
TZNAME:BST
DTSTART:20250330T010000
END:DAYLIGHT
BEGIN:STANDARD
TZOFFSETFROM:+0100
TZOFFSETTO:+0000
TZNAME:GMT
DTSTART:20251026T010000
END:STANDARD
BEGIN:DAYLIGHT
TZOFFSETFROM:+0000
TZOFFSETTO:+0100
TZNAME:BST
DTSTART:20260329T010000
END:DAYLIGHT
BEGIN:STANDARD
TZOFFSETFROM:+0100
TZOFFSETTO:+0000
TZNAME:GMT
DTSTART:20261025T010000
END:STANDARD
BEGIN:DAYLIGHT
TZOFFSETFROM:+0000
TZOFFSETTO:+0100
TZNAME:BST
DTSTART:20270328T010000
END:DAYLIGHT
BEGIN:STANDARD
TZOFFSETFROM:+0100
TZOFFSETTO:+0000
TZNAME:GMT
DTSTART:20271031T010000
END:STANDARD
END:VTIMEZONE
BEGIN:VEVENT
DTSTART;TZID=Europe/London:20260103T100000
DTEND;TZID=Europe/London:20260103T150000
DTSTAMP:20260424T130730
CREATED:20251228T225150Z
LAST-MODIFIED:20251228T225150Z
UID:48125-1767434400-1767452400@calendarioeventos.com
SUMMARY:Gastro - Brunch Welcome 2026
DESCRIPTION:Gastro – Brunch Welcome 2026 en Nankurunaisa The Store\, Las Palmas de Gran Canaria. \nplan para disfrutar mientras eliges tus regalitos \n 
URL:https://calendarioeventos.com/en/evento/gastro-brunch-welcome-2026/
LOCATION:Nankurunaisa\, Av. Juan Carlos I\, 29\, 35019 Las Palmas de Gran Canaria\, Las Palmas
CATEGORIES:Actividades,Gastronomía,Las Palmas de GC
ATTACH;FMTTYPE=image/png:https://calendarioeventos.com/wp-content/uploads/2025/12/Screenshot-2025-12-28-at-22-50-23-Instagram.avif
END:VEVENT
END:VCALENDAR