BEGIN:VCALENDAR
VERSION:2.0
PRODID:-//Calendario de Eventos Gran Canaria - ECPv6.15.17.1//NONSGML v1.0//EN
CALSCALE:GREGORIAN
METHOD:PUBLISH
X-WR-CALNAME:Calendario de Eventos Gran Canaria
X-ORIGINAL-URL:https://calendarioeventos.com/en
X-WR-CALDESC:Events for Calendario de Eventos Gran Canaria
REFRESH-INTERVAL;VALUE=DURATION:PT1H
X-Robots-Tag:noindex
X-PUBLISHED-TTL:PT1H
BEGIN:VTIMEZONE
TZID:Europe/London
BEGIN:DAYLIGHT
TZOFFSETFROM:+0000
TZOFFSETTO:+0100
TZNAME:BST
DTSTART:20240331T010000
END:DAYLIGHT
BEGIN:STANDARD
TZOFFSETFROM:+0100
TZOFFSETTO:+0000
TZNAME:GMT
DTSTART:20241027T010000
END:STANDARD
BEGIN:DAYLIGHT
TZOFFSETFROM:+0000
TZOFFSETTO:+0100
TZNAME:BST
DTSTART:20250330T010000
END:DAYLIGHT
BEGIN:STANDARD
TZOFFSETFROM:+0100
TZOFFSETTO:+0000
TZNAME:GMT
DTSTART:20251026T010000
END:STANDARD
BEGIN:DAYLIGHT
TZOFFSETFROM:+0000
TZOFFSETTO:+0100
TZNAME:BST
DTSTART:20260329T010000
END:DAYLIGHT
BEGIN:STANDARD
TZOFFSETFROM:+0100
TZOFFSETTO:+0000
TZNAME:GMT
DTSTART:20261025T010000
END:STANDARD
END:VTIMEZONE
BEGIN:VEVENT
DTSTART;TZID=Europe/London:20251212T170000
DTEND;TZID=Europe/London:20251212T190000
DTSTAMP:20260421T060720
CREATED:20251204T115915Z
LAST-MODIFIED:20251204T115915Z
UID:40303-1765558800-1765566000@calendarioeventos.com
SUMMARY:Gastro - Entre pinceles y vino
DESCRIPTION:Gastro – «Entre pinceles y vino» en la Plaza de Tenderetunte\, San Bartolomé de Tirajana\, Gran Canaria. \nDegustación de vinos de la bodega de Las Tirajanas con picoteo.
URL:https://calendarioeventos.com/en/evento/gastro-entre-pinceles-y-vino/
LOCATION:Plaza Tenderetunte
CATEGORIES:Actividades,Eventos gratuitos,Gastronomía,Pintura,San Bartolomé de Tirajana,Taller
END:VEVENT
END:VCALENDAR