BEGIN:VCALENDAR
VERSION:2.0
PRODID:-//Calendario de Eventos Gran Canaria - ECPv6.15.17.1//NONSGML v1.0//EN
CALSCALE:GREGORIAN
METHOD:PUBLISH
X-WR-CALNAME:Calendario de Eventos Gran Canaria
X-ORIGINAL-URL:https://calendarioeventos.com/en
X-WR-CALDESC:Events for Calendario de Eventos Gran Canaria
REFRESH-INTERVAL;VALUE=DURATION:PT1H
X-Robots-Tag:noindex
X-PUBLISHED-TTL:PT1H
BEGIN:VTIMEZONE
TZID:Europe/London
BEGIN:DAYLIGHT
TZOFFSETFROM:+0000
TZOFFSETTO:+0100
TZNAME:BST
DTSTART:20250330T010000
END:DAYLIGHT
BEGIN:STANDARD
TZOFFSETFROM:+0100
TZOFFSETTO:+0000
TZNAME:GMT
DTSTART:20251026T010000
END:STANDARD
BEGIN:DAYLIGHT
TZOFFSETFROM:+0000
TZOFFSETTO:+0100
TZNAME:BST
DTSTART:20260329T010000
END:DAYLIGHT
BEGIN:STANDARD
TZOFFSETFROM:+0100
TZOFFSETTO:+0000
TZNAME:GMT
DTSTART:20261025T010000
END:STANDARD
BEGIN:DAYLIGHT
TZOFFSETFROM:+0000
TZOFFSETTO:+0100
TZNAME:BST
DTSTART:20270328T010000
END:DAYLIGHT
BEGIN:STANDARD
TZOFFSETFROM:+0100
TZOFFSETTO:+0000
TZNAME:GMT
DTSTART:20271031T010000
END:STANDARD
END:VTIMEZONE
BEGIN:VEVENT
DTSTART;TZID=Europe/London:20260307T123000
DTEND;TZID=Europe/London:20260307T150000
DTSTAMP:20260420T220247
CREATED:20251216T182054Z
LAST-MODIFIED:20260223T171851Z
UID:41905-1772886600-1772895600@calendarioeventos.com
SUMMARY:Gastro - Taller de Maridaje
DESCRIPTION:Gastro – Taller de Maridaje en Vinófilos\, Las Palmas de Gran Canaria. \n\nReservas en este enlace. \nParticipa en este taller de maridaje en el que te contaremos todos los entresijos para hacer y disfrutar de esta exitosa forma de comer\, tan de moda en todos los restaurantes. Aprenderás qué acompaña y qué no\, preferencias y normas básicas que te explicaremos y pondremos en práctica con 9 divertidos ejercicios de maridaje con alimentos y vinos seleccionados. Todos los vinos serán servidos en cristalería Riedel para garantizar la mejor experiencia sensorial en nuestra Sala de Catas y Eventos de Triana.
URL:https://calendarioeventos.com/en/evento/gastro-taller-de-maridaje/
LOCATION:Vinófilos Triana | Wine Bar en Las Palmas\, C. Viera y Clavijo\, 23\, 35002 Las Palmas de Gran Canaria\, Las Palmas
CATEGORIES:Actividades,Gastronomía,Las Palmas de GC,Solo adultos,Taller
ATTACH;FMTTYPE=image/png:https://calendarioeventos.com/wp-content/uploads/2025/12/gc-taller-de-maridaje-7-de-marzo-1230h.avif
END:VEVENT
END:VCALENDAR