BEGIN:VCALENDAR
VERSION:2.0
PRODID:-//Calendario de Eventos Gran Canaria - ECPv6.15.17.1//NONSGML v1.0//EN
CALSCALE:GREGORIAN
METHOD:PUBLISH
X-WR-CALNAME:Calendario de Eventos Gran Canaria
X-ORIGINAL-URL:https://calendarioeventos.com/en
X-WR-CALDESC:Events for Calendario de Eventos Gran Canaria
REFRESH-INTERVAL;VALUE=DURATION:PT1H
X-Robots-Tag:noindex
X-PUBLISHED-TTL:PT1H
BEGIN:VTIMEZONE
TZID:Europe/London
BEGIN:DAYLIGHT
TZOFFSETFROM:+0000
TZOFFSETTO:+0100
TZNAME:BST
DTSTART:20240331T010000
END:DAYLIGHT
BEGIN:STANDARD
TZOFFSETFROM:+0100
TZOFFSETTO:+0000
TZNAME:GMT
DTSTART:20241027T010000
END:STANDARD
BEGIN:DAYLIGHT
TZOFFSETFROM:+0000
TZOFFSETTO:+0100
TZNAME:BST
DTSTART:20250330T010000
END:DAYLIGHT
BEGIN:STANDARD
TZOFFSETFROM:+0100
TZOFFSETTO:+0000
TZNAME:GMT
DTSTART:20251026T010000
END:STANDARD
BEGIN:DAYLIGHT
TZOFFSETFROM:+0000
TZOFFSETTO:+0100
TZNAME:BST
DTSTART:20260329T010000
END:DAYLIGHT
BEGIN:STANDARD
TZOFFSETFROM:+0100
TZOFFSETTO:+0000
TZNAME:GMT
DTSTART:20261025T010000
END:STANDARD
END:VTIMEZONE
BEGIN:VEVENT
DTSTART;TZID=Europe/London:20251115T110000
DTEND;TZID=Europe/London:20251115T123000
DTSTAMP:20260420T031831
CREATED:20260419T100012Z
LAST-MODIFIED:20260419T100012Z
UID:74455-1763204400-1763209800@calendarioeventos.com
SUMMARY:Gastro - Visitas a Bodegas Santa Brígida
DESCRIPTION:Gastro – Visitas a Bodegas de Santa Brígida con Vinos\, Gran Canaria. \n\n9 nov – 11h – Finca Escudero.\n15 nov – 11h – Rincón del Guiniguada.\n23 nov – 11h – Bodegas San Juan.\n29 nov – 11h – Bodega Bien de Altura.\n\nIncluye transporte\, degustación de vino y tapas y visita guiada. \nInscripción en www.santabrigidaconvinos.es \nSanta Brígida con Vinos es un programa cultural y enoturístico que celebra la riqueza vitivinícola y patrimonial del municipio a través de actividades como catas\, talleres de iniciación\, maridajes sonoros\, rutas patrimoniales y las emblemáticas Noches de Vino. Desarrollado bajo criterios de sostenibilidad y promoción local. Este evento busca impulsar los vinos de la DO Gran Canaria\, dinamizar la economía local y atraer visitantes; combinando tradición\, innovación y cultura en un entorno único. \n  \n 
URL:https://calendarioeventos.com/en/evento/gastro-visitas-a-bodegas-santa-brigida-2/
LOCATION:Santa Brígida\, Santa Brígida\, Las Palmas
CATEGORIES:Actividades,Gastronomía,Santa Brígida,Visita Guiada
ATTACH;FMTTYPE=image/jpeg:https://calendarioeventos.com/wp-content/uploads/2025/10/IMG_3900-1536x1536-1.avif
END:VEVENT
END:VCALENDAR