BEGIN:VCALENDAR
VERSION:2.0
PRODID:-//Calendario de Eventos Gran Canaria - ECPv6.15.17.1//NONSGML v1.0//EN
CALSCALE:GREGORIAN
METHOD:PUBLISH
X-WR-CALNAME:Calendario de Eventos Gran Canaria
X-ORIGINAL-URL:https://calendarioeventos.com/en
X-WR-CALDESC:Events for Calendario de Eventos Gran Canaria
REFRESH-INTERVAL;VALUE=DURATION:PT1H
X-Robots-Tag:noindex
X-PUBLISHED-TTL:PT1H
BEGIN:VTIMEZONE
TZID:Europe/London
BEGIN:DAYLIGHT
TZOFFSETFROM:+0000
TZOFFSETTO:+0100
TZNAME:BST
DTSTART:20250330T010000
END:DAYLIGHT
BEGIN:STANDARD
TZOFFSETFROM:+0100
TZOFFSETTO:+0000
TZNAME:GMT
DTSTART:20251026T010000
END:STANDARD
BEGIN:DAYLIGHT
TZOFFSETFROM:+0000
TZOFFSETTO:+0100
TZNAME:BST
DTSTART:20260329T010000
END:DAYLIGHT
BEGIN:STANDARD
TZOFFSETFROM:+0100
TZOFFSETTO:+0000
TZNAME:GMT
DTSTART:20261025T010000
END:STANDARD
BEGIN:DAYLIGHT
TZOFFSETFROM:+0000
TZOFFSETTO:+0100
TZNAME:BST
DTSTART:20270328T010000
END:DAYLIGHT
BEGIN:STANDARD
TZOFFSETFROM:+0100
TZOFFSETTO:+0000
TZNAME:GMT
DTSTART:20271031T010000
END:STANDARD
END:VTIMEZONE
BEGIN:VEVENT
DTSTART;TZID=Europe/London:20260411T110000
DTEND;TZID=Europe/London:20260411T130000
DTSTAMP:20260420T204954
CREATED:20260313T185736Z
LAST-MODIFIED:20260408T093952Z
UID:66084-1775905200-1775912400@calendarioeventos.com
SUMMARY:Gastronomía — «Arte y Gastronomía en el Museo de la Zafra»
DESCRIPTION:Gastronomía — Arte y Gastronomía en el Museo de la Zafra\, Santa Lucía de Tirajana\, Gran Canaria. \nDisfruta pintando un paisaje del municipio desde cero\, mientras degustas vino y productos de Santa Lucía de Tirajana. \nEsta actividad es una oportunidad única para conectar con el arte y los sabores de nuestra tierra en el emblemático entorno del Museo de la Zafra en Vecindario. \nLas plazas son limitadas y se requiere inscripción previa obligatoria para participar. \nPara ampliar información o realizar consultas\, la Oficina de Turismo atiende en el Museo de La Zafra (C/ Isla de La Graciosa\, s/n)\, en el teléfono 928 12 52 60 o a través del correo electrónico turismo@santaluciagc.com\, en horario de martes a viernes de 08:30 a 14:30 horas. \nInscripción en este enlace
URL:https://calendarioeventos.com/en/evento/gastronomia-arte-y-gastronomia-en-el-museo-de-la-zafra/
LOCATION:Museo de la Zafra\, C. Isla de la Graciosa\, 33\, 35110 Vecindario\, Las Palmas
CATEGORIES:Actividades,Arte,Gastronomía,Santa Lucía de Tirajana
ATTACH;FMTTYPE=image/png:https://calendarioeventos.com/wp-content/uploads/2026/03/Screenshot-2026-04-08-at-10-38-53-Instagram.png
END:VEVENT
END:VCALENDAR