BEGIN:VCALENDAR
VERSION:2.0
PRODID:-//Calendario de Eventos Gran Canaria - ECPv6.15.17.1//NONSGML v1.0//EN
CALSCALE:GREGORIAN
METHOD:PUBLISH
X-WR-CALNAME:Calendario de Eventos Gran Canaria
X-ORIGINAL-URL:https://calendarioeventos.com/en
X-WR-CALDESC:Events for Calendario de Eventos Gran Canaria
REFRESH-INTERVAL;VALUE=DURATION:PT1H
X-Robots-Tag:noindex
X-PUBLISHED-TTL:PT1H
BEGIN:VTIMEZONE
TZID:Europe/London
BEGIN:DAYLIGHT
TZOFFSETFROM:+0000
TZOFFSETTO:+0100
TZNAME:BST
DTSTART:20250330T010000
END:DAYLIGHT
BEGIN:STANDARD
TZOFFSETFROM:+0100
TZOFFSETTO:+0000
TZNAME:GMT
DTSTART:20251026T010000
END:STANDARD
BEGIN:DAYLIGHT
TZOFFSETFROM:+0000
TZOFFSETTO:+0100
TZNAME:BST
DTSTART:20260329T010000
END:DAYLIGHT
BEGIN:STANDARD
TZOFFSETFROM:+0100
TZOFFSETTO:+0000
TZNAME:GMT
DTSTART:20261025T010000
END:STANDARD
BEGIN:DAYLIGHT
TZOFFSETFROM:+0000
TZOFFSETTO:+0100
TZNAME:BST
DTSTART:20270328T010000
END:DAYLIGHT
BEGIN:STANDARD
TZOFFSETFROM:+0100
TZOFFSETTO:+0000
TZNAME:GMT
DTSTART:20271031T010000
END:STANDARD
END:VTIMEZONE
BEGIN:VEVENT
DTSTART;TZID=Europe/London:20260329T120000
DTEND;TZID=Europe/London:20260329T150000
DTSTAMP:20260424T175145
CREATED:20260228T153753Z
LAST-MODIFIED:20260228T153821Z
UID:63094-1774785600-1774796400@calendarioeventos.com
SUMMARY:Gastronomía - «Espicha 2026»
DESCRIPTION:Gastronomía – «Espicha 2026» en la Sidrería El Lagar de Valleseco\, Valleseco\, Gran Canaria. \nDisfruta de una auténtica degustación de sidras y aperitivos en un entorno único en Bodega Sidrería El Lagar de Valleseco. La actividad tiene una duración de 3 horas y requiere reserva previa. \nInscripción en este enlace
URL:https://calendarioeventos.com/en/evento/gastronomia-espicha-2026/
LOCATION:Sidrería El Lagar de Valleseco\, Carr. del Pico\, 34\, 35349 Valleseco\, Las Palmas
CATEGORIES:Actividades,Gastronomía,Valleseco
ATTACH;FMTTYPE=image/jpeg:https://calendarioeventos.com/wp-content/uploads/2026/02/gastronom-a-espicha-2026-1772293040212.avif
END:VEVENT
END:VCALENDAR