BEGIN:VCALENDAR
VERSION:2.0
PRODID:-//Calendario de Eventos Gran Canaria - ECPv6.15.17.1//NONSGML v1.0//EN
CALSCALE:GREGORIAN
METHOD:PUBLISH
X-WR-CALNAME:Calendario de Eventos Gran Canaria
X-ORIGINAL-URL:https://calendarioeventos.com/en
X-WR-CALDESC:Events for Calendario de Eventos Gran Canaria
REFRESH-INTERVAL;VALUE=DURATION:PT1H
X-Robots-Tag:noindex
X-PUBLISHED-TTL:PT1H
BEGIN:VTIMEZONE
TZID:Europe/London
BEGIN:DAYLIGHT
TZOFFSETFROM:+0000
TZOFFSETTO:+0100
TZNAME:BST
DTSTART:20250330T010000
END:DAYLIGHT
BEGIN:STANDARD
TZOFFSETFROM:+0100
TZOFFSETTO:+0000
TZNAME:GMT
DTSTART:20251026T010000
END:STANDARD
BEGIN:DAYLIGHT
TZOFFSETFROM:+0000
TZOFFSETTO:+0100
TZNAME:BST
DTSTART:20260329T010000
END:DAYLIGHT
BEGIN:STANDARD
TZOFFSETFROM:+0100
TZOFFSETTO:+0000
TZNAME:GMT
DTSTART:20261025T010000
END:STANDARD
BEGIN:DAYLIGHT
TZOFFSETFROM:+0000
TZOFFSETTO:+0100
TZNAME:BST
DTSTART:20270328T010000
END:DAYLIGHT
BEGIN:STANDARD
TZOFFSETFROM:+0100
TZOFFSETTO:+0000
TZNAME:GMT
DTSTART:20271031T010000
END:STANDARD
END:VTIMEZONE
BEGIN:VEVENT
DTSTART;TZID=Europe/London:20260103T103000
DTEND;TZID=Europe/London:20260103T200000
DTSTAMP:20260424T113134
CREATED:20251220T124706Z
LAST-MODIFIED:20251220T124706Z
UID:45845-1767436200-1767470400@calendarioeventos.com
SUMMARY:Guía haciendo historia en Navidad 3 enero
DESCRIPTION:Programa de actos de «Guía haciendo historia en Navidad» del 3 de enero: \n\n10:30 – 13:30 Recorrido de los Pajes Reales: plaza de Montaña Alta\, plaza de Tres Cruces\, plaza de La Dehesa\, explanada El Gallego\, plaza de San Juan.\n16:30 – 20:00 Recorrido de los Pajes Reales: plaza de Hoya Pineda\, plaza de Anzo\, plaza de Montaña de Guía\, urbanización Pineda\, urbanización Los Sauces\, plaza de Caleta de Arriba.
URL:https://calendarioeventos.com/en/evento/guia-haciendo-historia-en-navidad-3-enero/
LOCATION:Guía\, Las Palmas
CATEGORIES:Actividades,Eventos gratuitos,Guía,Infantil,Música
ATTACH;FMTTYPE=image/jpeg:https://calendarioeventos.com/wp-content/uploads/2025/12/IMG_5283-1024x1024-1.avif
END:VEVENT
END:VCALENDAR