BEGIN:VCALENDAR
VERSION:2.0
PRODID:-//Calendario de Eventos Gran Canaria - ECPv6.15.17.1//NONSGML v1.0//EN
CALSCALE:GREGORIAN
METHOD:PUBLISH
X-WR-CALNAME:Calendario de Eventos Gran Canaria
X-ORIGINAL-URL:https://calendarioeventos.com/en
X-WR-CALDESC:Events for Calendario de Eventos Gran Canaria
REFRESH-INTERVAL;VALUE=DURATION:PT1H
X-Robots-Tag:noindex
X-PUBLISHED-TTL:PT1H
BEGIN:VTIMEZONE
TZID:Europe/London
BEGIN:DAYLIGHT
TZOFFSETFROM:+0000
TZOFFSETTO:+0100
TZNAME:BST
DTSTART:20250330T010000
END:DAYLIGHT
BEGIN:STANDARD
TZOFFSETFROM:+0100
TZOFFSETTO:+0000
TZNAME:GMT
DTSTART:20251026T010000
END:STANDARD
BEGIN:DAYLIGHT
TZOFFSETFROM:+0000
TZOFFSETTO:+0100
TZNAME:BST
DTSTART:20260329T010000
END:DAYLIGHT
BEGIN:STANDARD
TZOFFSETFROM:+0100
TZOFFSETTO:+0000
TZNAME:GMT
DTSTART:20261025T010000
END:STANDARD
BEGIN:DAYLIGHT
TZOFFSETFROM:+0000
TZOFFSETTO:+0100
TZNAME:BST
DTSTART:20270328T010000
END:DAYLIGHT
BEGIN:STANDARD
TZOFFSETFROM:+0100
TZOFFSETTO:+0000
TZNAME:GMT
DTSTART:20271031T010000
END:STANDARD
END:VTIMEZONE
BEGIN:VEVENT
DTSTART;TZID=Europe/London:20260313T190000
DTEND;TZID=Europe/London:20260313T230000
DTSTAMP:20260423T113117
CREATED:20260305T175641Z
LAST-MODIFIED:20260305T175656Z
UID:64751-1773428400-1773442800@calendarioeventos.com
SUMMARY:Humor - «El Casting de Idiotas»
DESCRIPTION:Humor — «El Casting de Idiotas» en la Bodega Los Lirios\, Las Palmas de Gran Canaria. \nEl Casting de Idiotas vuelve con un nuevo formato nuevo. Impro de clowns de Goodbye Perejil\, Compañía Canaria de Clowns.  \nEntradas en entradium.com o en taquilla en efectivo 7 €.  \nCartel: @wilouelilustrador.
URL:https://calendarioeventos.com/en/evento/humor-el-casting-de-idiotas/
LOCATION:Bodega Los Lirios\, Camino de los lirios\, 2\, 35017 Las Palmas de Gran Canaria\, Las Palmas
CATEGORIES:Circo,Entretenimiento,Humor,Las Palmas de GC
ATTACH;FMTTYPE=image/jpeg:https://calendarioeventos.com/wp-content/uploads/2026/03/humor-el-casting-de-idiotas-1772733385052.avif
END:VEVENT
END:VCALENDAR