BEGIN:VCALENDAR
VERSION:2.0
PRODID:-//Calendario de Eventos Gran Canaria - ECPv6.15.17.1//NONSGML v1.0//EN
CALSCALE:GREGORIAN
METHOD:PUBLISH
X-WR-CALNAME:Calendario de Eventos Gran Canaria
X-ORIGINAL-URL:https://calendarioeventos.com/en
X-WR-CALDESC:Events for Calendario de Eventos Gran Canaria
REFRESH-INTERVAL;VALUE=DURATION:PT1H
X-Robots-Tag:noindex
X-PUBLISHED-TTL:PT1H
BEGIN:VTIMEZONE
TZID:Europe/London
BEGIN:DAYLIGHT
TZOFFSETFROM:+0000
TZOFFSETTO:+0100
TZNAME:BST
DTSTART:20250330T010000
END:DAYLIGHT
BEGIN:STANDARD
TZOFFSETFROM:+0100
TZOFFSETTO:+0000
TZNAME:GMT
DTSTART:20251026T010000
END:STANDARD
BEGIN:DAYLIGHT
TZOFFSETFROM:+0000
TZOFFSETTO:+0100
TZNAME:BST
DTSTART:20260329T010000
END:DAYLIGHT
BEGIN:STANDARD
TZOFFSETFROM:+0100
TZOFFSETTO:+0000
TZNAME:GMT
DTSTART:20261025T010000
END:STANDARD
BEGIN:DAYLIGHT
TZOFFSETFROM:+0000
TZOFFSETTO:+0100
TZNAME:BST
DTSTART:20270328T010000
END:DAYLIGHT
BEGIN:STANDARD
TZOFFSETFROM:+0100
TZOFFSETTO:+0000
TZNAME:GMT
DTSTART:20271031T010000
END:STANDARD
END:VTIMEZONE
BEGIN:VEVENT
DTSTART;TZID=Europe/London:20260312T200000
DTEND;TZID=Europe/London:20260312T213000
DTSTAMP:20260423T111804
CREATED:20260311T190139Z
LAST-MODIFIED:20260311T190140Z
UID:65690-1773345600-1773351000@calendarioeventos.com
SUMMARY:Humor - «En Otra Clave» Telde
DESCRIPTION:Humor — «En Otra Clave» en el Teatro Municipal Juan Ramón Jiménez\, Telde\, Gran Canaria. \nEN OTRA CLAVE \n“En Otra Clave”\, el programa más visto de la Televisión Canaria\, se renueva con un nuevo y espectacular escenario que eleva aún más la experiencia para el público. Su éxito radica en un formato único y cercano: un show itinerante que recorre los teatros de las Islas para grabar cada capítulo. Gracias a su banda en directo\, la música se siente viva y acompañando cada momento de humor. El formato teatro-televisivo permite que los espectadores disfruten del talento de En Otra Clave tanto en vivo en los teatros como desde la comodidad de sus hogares a través de la Televisión Canaria\, ahora en un escenario más impresionante que nunca. \nEntradas en este enlace
URL:https://calendarioeventos.com/en/evento/humor-en-otra-clave-telde/
LOCATION:Teatro Municipal Juan Ramón Jiménez\, C. Poeta Pablo Neruda\, 1\, 35200 Telde\, Las Palmas
CATEGORIES:Entretenimiento,Humor,Telde
ATTACH;FMTTYPE=image/jpeg:https://calendarioeventos.com/wp-content/uploads/2026/03/IMAGEN-EN-OTRA-CLAVE-preview-FnQDGa.avif
END:VEVENT
END:VCALENDAR