BEGIN:VCALENDAR
VERSION:2.0
PRODID:-//Calendario de Eventos Gran Canaria - ECPv6.15.17.1//NONSGML v1.0//EN
CALSCALE:GREGORIAN
METHOD:PUBLISH
X-WR-CALNAME:Calendario de Eventos Gran Canaria
X-ORIGINAL-URL:https://calendarioeventos.com/en
X-WR-CALDESC:Events for Calendario de Eventos Gran Canaria
REFRESH-INTERVAL;VALUE=DURATION:PT1H
X-Robots-Tag:noindex
X-PUBLISHED-TTL:PT1H
BEGIN:VTIMEZONE
TZID:Europe/London
BEGIN:DAYLIGHT
TZOFFSETFROM:+0000
TZOFFSETTO:+0100
TZNAME:BST
DTSTART:20250330T010000
END:DAYLIGHT
BEGIN:STANDARD
TZOFFSETFROM:+0100
TZOFFSETTO:+0000
TZNAME:GMT
DTSTART:20251026T010000
END:STANDARD
BEGIN:DAYLIGHT
TZOFFSETFROM:+0000
TZOFFSETTO:+0100
TZNAME:BST
DTSTART:20260329T010000
END:DAYLIGHT
BEGIN:STANDARD
TZOFFSETFROM:+0100
TZOFFSETTO:+0000
TZNAME:GMT
DTSTART:20261025T010000
END:STANDARD
BEGIN:DAYLIGHT
TZOFFSETFROM:+0000
TZOFFSETTO:+0100
TZNAME:BST
DTSTART:20270328T010000
END:DAYLIGHT
BEGIN:STANDARD
TZOFFSETFROM:+0100
TZOFFSETTO:+0000
TZNAME:GMT
DTSTART:20271031T010000
END:STANDARD
END:VTIMEZONE
BEGIN:VEVENT
DTSTART;TZID=Europe/London:20260326T193000
DTEND;TZID=Europe/London:20260326T210000
DTSTAMP:20260425T050248
CREATED:20260311T142026Z
LAST-MODIFIED:20260311T142114Z
UID:10015087-1774553400-1774558800@calendarioeventos.com
SUMMARY:Humor - «Jorge Ávila. Estamos de prueba.»
DESCRIPTION:Humor — Jorge Ávila en «Estamos de prueba» en Buganvilla Studio\, Las Palmas de Gran Canaria. \nEstamos probando nuevo material\, ¿a ver qué tal? \n25 y 26/03. 19:30. Aforo limitado. @buganvilla_stu /STAND \nEntradas para el día 25 en este enlace. \nEntradas para el día 26 en este enlace.
URL:https://calendarioeventos.com/en/evento/humor-jorge-avila-estamos-de-prueba/2026-03-26/
LOCATION:Buganvilla Studio\, Calle gravina n°9\, Las Palmas de Gran Canaria
CATEGORIES:Entretenimiento,Humor,Las Palmas de GC
ATTACH;FMTTYPE=image/png:https://calendarioeventos.com/wp-content/uploads/2026/03/event_gallery_avi-MjGhCX.avif
END:VEVENT
END:VCALENDAR