BEGIN:VCALENDAR
VERSION:2.0
PRODID:-//Calendario de Eventos Gran Canaria - ECPv6.15.17.1//NONSGML v1.0//EN
CALSCALE:GREGORIAN
METHOD:PUBLISH
X-WR-CALNAME:Calendario de Eventos Gran Canaria
X-ORIGINAL-URL:https://calendarioeventos.com/en
X-WR-CALDESC:Events for Calendario de Eventos Gran Canaria
REFRESH-INTERVAL;VALUE=DURATION:PT1H
X-Robots-Tag:noindex
X-PUBLISHED-TTL:PT1H
BEGIN:VTIMEZONE
TZID:Europe/London
BEGIN:DAYLIGHT
TZOFFSETFROM:+0000
TZOFFSETTO:+0100
TZNAME:BST
DTSTART:20250330T010000
END:DAYLIGHT
BEGIN:STANDARD
TZOFFSETFROM:+0100
TZOFFSETTO:+0000
TZNAME:GMT
DTSTART:20251026T010000
END:STANDARD
BEGIN:DAYLIGHT
TZOFFSETFROM:+0000
TZOFFSETTO:+0100
TZNAME:BST
DTSTART:20260329T010000
END:DAYLIGHT
BEGIN:STANDARD
TZOFFSETFROM:+0100
TZOFFSETTO:+0000
TZNAME:GMT
DTSTART:20261025T010000
END:STANDARD
BEGIN:DAYLIGHT
TZOFFSETFROM:+0000
TZOFFSETTO:+0100
TZNAME:BST
DTSTART:20270328T010000
END:DAYLIGHT
BEGIN:STANDARD
TZOFFSETFROM:+0100
TZOFFSETTO:+0000
TZNAME:GMT
DTSTART:20271031T010000
END:STANDARD
END:VTIMEZONE
BEGIN:VEVENT
DTSTART;TZID=Europe/London:20260118T190000
DTEND;TZID=Europe/London:20260118T203000
DTSTAMP:20260421T080616
CREATED:20251225T111108Z
LAST-MODIFIED:20260106T190106Z
UID:47283-1768762800-1768768200@calendarioeventos.com
SUMMARY:Humor - Kike Pérez a lo Bestia
DESCRIPTION:Humor – Kike Pérez a lo Bestia\, en el Gran Canaria Arena\, Las Palmas de Gran Canaria \nEl humorista Kike Pérez celebra sus 20 años de carrera con el espectáculo más grande de su trayectoria: “A lo Bestia”\, la quinta edición de su exitoso formato anual que reúne a grandes talentos de la comedia y la cultura canaria sobre un mismo escenario. \nEn esta ocasión\, Kike comparte show con Saúl Romero\, Almu Lasacre\, Delia Santana\, Gazz\, Yeray Rodríguez\, Darío López y Arístides Moreno\, en una noche única que combina humor\, música\, improvisación y esencia isleña. \nProducido por El Mono Producciones\, este evento se consolida como uno de los mayores espectáculos de comedia de Canarias\, un homenaje a la creatividad y al talento local que promete emociones\, risas y celebración a lo grande. \nEntradas en este enlace
URL:https://calendarioeventos.com/en/evento/humor-kike-perez-a-lo-bestia/
LOCATION:Gran Canaria Arena\, C. Fondos de Segura\, s/n\, 35019 Las Palmas de Gran Canaria\, Las Palmas
CATEGORIES:Entretenimiento,Humor,Las Palmas de GC,Municipio
ATTACH;FMTTYPE=image/jpeg:https://calendarioeventos.com/wp-content/uploads/2025/12/7d523b6a-ab0c-4188-a8c4-f188d4be7611.avif
END:VEVENT
END:VCALENDAR