BEGIN:VCALENDAR
VERSION:2.0
PRODID:-//Calendario de Eventos Gran Canaria - ECPv6.15.17.1//NONSGML v1.0//EN
CALSCALE:GREGORIAN
METHOD:PUBLISH
X-WR-CALNAME:Calendario de Eventos Gran Canaria
X-ORIGINAL-URL:https://calendarioeventos.com/en
X-WR-CALDESC:Events for Calendario de Eventos Gran Canaria
REFRESH-INTERVAL;VALUE=DURATION:PT1H
X-Robots-Tag:noindex
X-PUBLISHED-TTL:PT1H
BEGIN:VTIMEZONE
TZID:Europe/London
BEGIN:DAYLIGHT
TZOFFSETFROM:+0000
TZOFFSETTO:+0100
TZNAME:BST
DTSTART:20250330T010000
END:DAYLIGHT
BEGIN:STANDARD
TZOFFSETFROM:+0100
TZOFFSETTO:+0000
TZNAME:GMT
DTSTART:20251026T010000
END:STANDARD
BEGIN:DAYLIGHT
TZOFFSETFROM:+0000
TZOFFSETTO:+0100
TZNAME:BST
DTSTART:20260329T010000
END:DAYLIGHT
BEGIN:STANDARD
TZOFFSETFROM:+0100
TZOFFSETTO:+0000
TZNAME:GMT
DTSTART:20261025T010000
END:STANDARD
BEGIN:DAYLIGHT
TZOFFSETFROM:+0000
TZOFFSETTO:+0100
TZNAME:BST
DTSTART:20270328T010000
END:DAYLIGHT
BEGIN:STANDARD
TZOFFSETFROM:+0100
TZOFFSETTO:+0000
TZNAME:GMT
DTSTART:20271031T010000
END:STANDARD
END:VTIMEZONE
BEGIN:VEVENT
DTSTART;TZID=Europe/London:20260117T200000
DTEND;TZID=Europe/London:20260117T213000
DTSTAMP:20260421T061532
CREATED:20251225T114105Z
LAST-MODIFIED:20260107T120857Z
UID:47326-1768680000-1768685400@calendarioeventos.com
SUMMARY:Humor - Las Noches con Cristito y la Madre Canaria
DESCRIPTION:Humor «Las Noches con Cristito y la Madre Canaria » en el Centro Cultural CICCA\, Las Palmas de Gran Canaria. \nDuración: 90 minutos aproximadamente. \nPrecio de venta de las entradas: 15 euros \nOrganiza:    Salán producciones \nSinopsis del evento:  “Las Noches con Cristito y la Madre Canaria” es un espectáculo de aproximadamente 90 minutos dirigido a mayores de 14 años\, que combina humor costumbrista canario con momentos de reflexión personal. \nEl espectáculo está construido como un monólogo vivo y dinámico\, donde Cristito hace reír al público con situaciones cotidianas\, personajes reconocibles y observaciones sobre la vida en Canarias. Al mismo tiempo\, comparte fragmentos de su propia experiencia vital\, invitando al público a pensar sobre los roles que adoptamos en la vida y cómo nos relacionamos con los demás. \nUno de los aspectos más destacados del espectáculo es la capacidad de improvisación de Cristito\, que convierte cada función en una experiencia única. Su interacción con el público y la flexibilidad para adaptar historias y situaciones en tiempo real hacen que cada espectáculo sea diferente\, manteniendo la frescura y la sorpresa hasta el final. \nAunque trata temas personales y universales\, lo hace con ligereza y naturalidad\, de manera que la historia fluye de forma entretenida y cercana\, sin convertirse en un discurso profundo. La combinación de humor\, cultura y reflexión emocional permite que el público viva una experiencia divertida\, familiar y significativa. \nEntradas en este enlace.
URL:https://calendarioeventos.com/en/evento/humor-las-noches-con-cristito-y-la-madre-canaria/
LOCATION:Centro Cultural Cicca\, Alameda de Colon\, 1\, 35002 Las Palmas de Gran Canaria\, Las Palmas
CATEGORIES:Entretenimiento,Humor,Las Palmas de GC
ATTACH;FMTTYPE=image/webp:https://calendarioeventos.com/wp-content/uploads/2025/12/2784341.avif
END:VEVENT
END:VCALENDAR