BEGIN:VCALENDAR
VERSION:2.0
PRODID:-//Calendario de Eventos Gran Canaria - ECPv6.15.17.1//NONSGML v1.0//EN
CALSCALE:GREGORIAN
METHOD:PUBLISH
X-WR-CALNAME:Calendario de Eventos Gran Canaria
X-ORIGINAL-URL:https://calendarioeventos.com/en
X-WR-CALDESC:Events for Calendario de Eventos Gran Canaria
REFRESH-INTERVAL;VALUE=DURATION:PT1H
X-Robots-Tag:noindex
X-PUBLISHED-TTL:PT1H
BEGIN:VTIMEZONE
TZID:Europe/London
BEGIN:DAYLIGHT
TZOFFSETFROM:+0000
TZOFFSETTO:+0100
TZNAME:BST
DTSTART:20250330T010000
END:DAYLIGHT
BEGIN:STANDARD
TZOFFSETFROM:+0100
TZOFFSETTO:+0000
TZNAME:GMT
DTSTART:20251026T010000
END:STANDARD
BEGIN:DAYLIGHT
TZOFFSETFROM:+0000
TZOFFSETTO:+0100
TZNAME:BST
DTSTART:20260329T010000
END:DAYLIGHT
BEGIN:STANDARD
TZOFFSETFROM:+0100
TZOFFSETTO:+0000
TZNAME:GMT
DTSTART:20261025T010000
END:STANDARD
BEGIN:DAYLIGHT
TZOFFSETFROM:+0000
TZOFFSETTO:+0100
TZNAME:BST
DTSTART:20270328T010000
END:DAYLIGHT
BEGIN:STANDARD
TZOFFSETFROM:+0100
TZOFFSETTO:+0000
TZNAME:GMT
DTSTART:20271031T010000
END:STANDARD
END:VTIMEZONE
BEGIN:VEVENT
DTSTART;TZID=Europe/London:20260306T180000
DTEND;TZID=Europe/London:20260306T193000
DTSTAMP:20260423T174858
CREATED:20260304T181657Z
LAST-MODIFIED:20260304T181725Z
UID:64382-1772820000-1772825400@calendarioeventos.com
SUMMARY:Inauguración - «Exposición Colectiva de escultura Formas»
DESCRIPTION:Inauguración — Exposición colectiva de escultura «Formas» en la Casa Gourié\, Arucas\, Gran Canaria. \nPor tal motivo\, se plantea la inauguración a las 18.00 horas para que el público que lo desee pueda ver la exposición y acompañar a esta pintora y escultora\, que ha conseguido a través de su enorme trayectoria artística consolidar la visión femenina en un campo tan difícil como es el de la escultura. Su impacto en la identidad visual urbanística de Gran Canaria es relevante\, pues sus esculturas dialogan de manera cotidiana con quien transita los espacios donde se ubican. Además\, la obra del artista aruquense José Heriberto García nos trae un sello particular en donde se combina la técnica artesanal aplicada al arte contemporáneo en las islas. Concejalía de Cultura\, Memoria Democrática y Patrimonio Histórico\, dirigida por Carlos González Matos\, compromiso de la valorización de las artes dando cobijo a autores/as que pueden exponer en las salas temporales\, convirtiéndose en un lugar para la expresión creativa y la trasmisión de sensaciones\, generándose una retroalimentación con la ciudadanía. Todas las personas que lo deseen pueden acudir directamente a la inauguración sin necesidad de inscripción previa.
URL:https://calendarioeventos.com/en/evento/inauguracion-exposicion-colectiva-de-escultura-formas/
LOCATION:Museo Municipal de Arucas\, Pl. de la Constitución\, 2\, 35400 Arucas\, Las Palmas
CATEGORIES:Actividades,Arte,Arucas,Eventos gratuitos,Inauguración
ATTACH;FMTTYPE=image/jpeg:https://calendarioeventos.com/wp-content/uploads/2026/03/inauguraci-n-exposici-n-colectiva-de-escultura-1772648186651.avif
END:VEVENT
END:VCALENDAR