BEGIN:VCALENDAR
VERSION:2.0
PRODID:-//Calendario de Eventos Gran Canaria - ECPv6.15.17.1//NONSGML v1.0//EN
CALSCALE:GREGORIAN
METHOD:PUBLISH
X-WR-CALNAME:Calendario de Eventos Gran Canaria
X-ORIGINAL-URL:https://calendarioeventos.com/en
X-WR-CALDESC:Events for Calendario de Eventos Gran Canaria
REFRESH-INTERVAL;VALUE=DURATION:PT1H
X-Robots-Tag:noindex
X-PUBLISHED-TTL:PT1H
BEGIN:VTIMEZONE
TZID:Europe/London
BEGIN:DAYLIGHT
TZOFFSETFROM:+0000
TZOFFSETTO:+0100
TZNAME:BST
DTSTART:20250330T010000
END:DAYLIGHT
BEGIN:STANDARD
TZOFFSETFROM:+0100
TZOFFSETTO:+0000
TZNAME:GMT
DTSTART:20251026T010000
END:STANDARD
BEGIN:DAYLIGHT
TZOFFSETFROM:+0000
TZOFFSETTO:+0100
TZNAME:BST
DTSTART:20260329T010000
END:DAYLIGHT
BEGIN:STANDARD
TZOFFSETFROM:+0100
TZOFFSETTO:+0000
TZNAME:GMT
DTSTART:20261025T010000
END:STANDARD
BEGIN:DAYLIGHT
TZOFFSETFROM:+0000
TZOFFSETTO:+0100
TZNAME:BST
DTSTART:20270328T010000
END:DAYLIGHT
BEGIN:STANDARD
TZOFFSETFROM:+0100
TZOFFSETTO:+0000
TZNAME:GMT
DTSTART:20271031T010000
END:STANDARD
END:VTIMEZONE
BEGIN:VEVENT
DTSTART;TZID=Europe/London:20260306T200000
DTEND;TZID=Europe/London:20260306T213000
DTSTAMP:20260423T174000
CREATED:20260305T125450Z
LAST-MODIFIED:20260305T125507Z
UID:64666-1772827200-1772832600@calendarioeventos.com
SUMMARY:Inauguración —  Exposición «De la Acequia al Molino»
DESCRIPTION:Inauguración de la Exposición «De la Acequia al Molino» en el Círculo Cultural de Telde\, Gran Canaria. \nInauguración de la exposición colectiva de pintura De la Acequia al Molino.  \nEl acto tendrá lugar el 6 de marzo a las 20:00 horas e incluirá la conferencia titulada «Breve Semblanza de la historia del Molino del Conde»\, impartida por Juan Ismael Santana Ramírez en el Círculo Cultural de Telde.
URL:https://calendarioeventos.com/en/evento/inauguracion-exposicion-de-la-acequia-al-molino/
LOCATION:Círculo cultural de Telde\, Calle Roque\, 119. 35200. Telde (Las Palmas)
CATEGORIES:Actividades,Arte,Charla,Eventos gratuitos,Inauguración,Telde
ATTACH;FMTTYPE=image/jpeg:https://calendarioeventos.com/wp-content/uploads/2026/03/inauguraci-n-exposici-n-de-la-acequia-al-molin-1772715272784.avif
END:VEVENT
END:VCALENDAR