BEGIN:VCALENDAR
VERSION:2.0
PRODID:-//Calendario de Eventos Gran Canaria - ECPv6.15.17.1//NONSGML v1.0//EN
CALSCALE:GREGORIAN
METHOD:PUBLISH
X-WR-CALNAME:Calendario de Eventos Gran Canaria
X-ORIGINAL-URL:https://calendarioeventos.com/en
X-WR-CALDESC:Events for Calendario de Eventos Gran Canaria
REFRESH-INTERVAL;VALUE=DURATION:PT1H
X-Robots-Tag:noindex
X-PUBLISHED-TTL:PT1H
BEGIN:VTIMEZONE
TZID:Europe/London
BEGIN:DAYLIGHT
TZOFFSETFROM:+0000
TZOFFSETTO:+0100
TZNAME:BST
DTSTART:20240331T010000
END:DAYLIGHT
BEGIN:STANDARD
TZOFFSETFROM:+0100
TZOFFSETTO:+0000
TZNAME:GMT
DTSTART:20241027T010000
END:STANDARD
BEGIN:DAYLIGHT
TZOFFSETFROM:+0000
TZOFFSETTO:+0100
TZNAME:BST
DTSTART:20250330T010000
END:DAYLIGHT
BEGIN:STANDARD
TZOFFSETFROM:+0100
TZOFFSETTO:+0000
TZNAME:GMT
DTSTART:20251026T010000
END:STANDARD
BEGIN:DAYLIGHT
TZOFFSETFROM:+0000
TZOFFSETTO:+0100
TZNAME:BST
DTSTART:20260329T010000
END:DAYLIGHT
BEGIN:STANDARD
TZOFFSETFROM:+0100
TZOFFSETTO:+0000
TZNAME:GMT
DTSTART:20261025T010000
END:STANDARD
END:VTIMEZONE
BEGIN:VEVENT
DTSTART;TZID=Europe/London:20251112T190000
DTEND;TZID=Europe/London:20251112T203000
DTSTAMP:20260419T184259
CREATED:20251029T141457Z
LAST-MODIFIED:20251107T092806Z
UID:26778-1762974000-1762979400@calendarioeventos.com
SUMMARY:Inauguración - Exposición: El Original Multiplicado
DESCRIPTION:Inauguración de la Exposición ‘El Original Multiplicado’ en la Casa de Colón\, Las Palmas de Gran Canaria. \nLa Casa de Colón presenta una exposición temporal dedicada al grabado como medio artístico\, histórico y de difusión cultural. La muestra reúne obras pertenecientes a la colección del Cabildo de Gran Canaria y propone un recorrido que abarca desde el siglo XVI hasta finales del siglo XX\, permitiendo apreciar la evolución técnica y expresiva de esta disciplina. \nEl grabado tuvo un papel decisivo en la circulación de ideas políticas\, religiosas\, filosóficas o estéticas. En sus orígenes\, la estampa estuvo ligada a la edición de libros hasta convertirse en medio de expresión artística con plena autonomía\, permitiendo reproducir imágenes\, ampliar su alcance y facilitar el acceso al conocimiento. La muestra destaca cómo estas estampas reflejan las transformaciones de una sociedad marcada por cambios políticos\, religiosos\, filosóficos y estéticos. \nQuien la visite podrá observar obras que ilustran la complejidad del arte gráfico y su capacidad para generar nuevas lecturas visuales en cada contexto histórico. La exposición es también una invitación a reflexionar sobre el papel del grabado en la construcción de una cultura compartida.\nComisarios: Ramón Gil Romero y Francisco Javier Pueyo Abril. \nLa exposición estará hasta el 15 de febrero de 2026. \nEntrada gratuita.
URL:https://calendarioeventos.com/en/evento/inauguracion-exposicion-el-original-multiplicado/
LOCATION:Casa de Colón\, C. Colón\, 1\, 35001 Las Palmas de Gran Canaria\, Las Palmas
CATEGORIES:Actividades,Arte,Eventos gratuitos,Inauguración,Las Palmas de GC
ATTACH;FMTTYPE=image/png:https://calendarioeventos.com/wp-content/uploads/2025/10/Screenshot-2025-11-07-at-09-27-38-Segunda-Semana-•-Instagram.avif
END:VEVENT
END:VCALENDAR