BEGIN:VCALENDAR
VERSION:2.0
PRODID:-//Calendario de Eventos Gran Canaria - ECPv6.15.17.1//NONSGML v1.0//EN
CALSCALE:GREGORIAN
METHOD:PUBLISH
X-WR-CALNAME:Calendario de Eventos Gran Canaria
X-ORIGINAL-URL:https://calendarioeventos.com/en
X-WR-CALDESC:Events for Calendario de Eventos Gran Canaria
REFRESH-INTERVAL;VALUE=DURATION:PT1H
X-Robots-Tag:noindex
X-PUBLISHED-TTL:PT1H
BEGIN:VTIMEZONE
TZID:Europe/London
BEGIN:DAYLIGHT
TZOFFSETFROM:+0000
TZOFFSETTO:+0100
TZNAME:BST
DTSTART:20250330T010000
END:DAYLIGHT
BEGIN:STANDARD
TZOFFSETFROM:+0100
TZOFFSETTO:+0000
TZNAME:GMT
DTSTART:20251026T010000
END:STANDARD
BEGIN:DAYLIGHT
TZOFFSETFROM:+0000
TZOFFSETTO:+0100
TZNAME:BST
DTSTART:20260329T010000
END:DAYLIGHT
BEGIN:STANDARD
TZOFFSETFROM:+0100
TZOFFSETTO:+0000
TZNAME:GMT
DTSTART:20261025T010000
END:STANDARD
BEGIN:DAYLIGHT
TZOFFSETFROM:+0000
TZOFFSETTO:+0100
TZNAME:BST
DTSTART:20270328T010000
END:DAYLIGHT
BEGIN:STANDARD
TZOFFSETFROM:+0100
TZOFFSETTO:+0000
TZNAME:GMT
DTSTART:20271031T010000
END:STANDARD
END:VTIMEZONE
BEGIN:VEVENT
DTSTART;TZID=Europe/London:20260302T173000
DTEND;TZID=Europe/London:20260302T183000
DTSTAMP:20260423T224632
CREATED:20260302T125723Z
LAST-MODIFIED:20260302T125723Z
UID:63680-1772472600-1772476200@calendarioeventos.com
SUMMARY:Inauguración - Exposición "Gran Canaria\, un paseo de color"
DESCRIPTION:Inauguración de la Exposición «Gran Canaria\, un paseo de color» de José Gutiérrez. en la Biblioteca Pública del Estado de Las Palmas de Gran Canaria. \n  \n  \n 
URL:https://calendarioeventos.com/en/evento/inauguracion-exposicion-gran-canaria-un-paseo-de-color/
LOCATION:Biblioteca Pública del Estado de Las Palmas\, C. Mlle. Las Palmas\, s/n\, 35003 Las Palmas de Gran Canaria\, Las Palmas
CATEGORIES:Actividades,Arte,Eventos gratuitos,Inauguración,Las Palmas de GC
ATTACH;FMTTYPE=image/jpeg:https://calendarioeventos.com/wp-content/uploads/2026/03/641120066_18089958869145176_3149853499446249729_n.avif
END:VEVENT
END:VCALENDAR