BEGIN:VCALENDAR
VERSION:2.0
PRODID:-//Calendario de Eventos Gran Canaria - ECPv6.15.17.1//NONSGML v1.0//EN
CALSCALE:GREGORIAN
METHOD:PUBLISH
X-WR-CALNAME:Calendario de Eventos Gran Canaria
X-ORIGINAL-URL:https://calendarioeventos.com/en
X-WR-CALDESC:Events for Calendario de Eventos Gran Canaria
REFRESH-INTERVAL;VALUE=DURATION:PT1H
X-Robots-Tag:noindex
X-PUBLISHED-TTL:PT1H
BEGIN:VTIMEZONE
TZID:Europe/London
BEGIN:DAYLIGHT
TZOFFSETFROM:+0000
TZOFFSETTO:+0100
TZNAME:BST
DTSTART:20250330T010000
END:DAYLIGHT
BEGIN:STANDARD
TZOFFSETFROM:+0100
TZOFFSETTO:+0000
TZNAME:GMT
DTSTART:20251026T010000
END:STANDARD
BEGIN:DAYLIGHT
TZOFFSETFROM:+0000
TZOFFSETTO:+0100
TZNAME:BST
DTSTART:20260329T010000
END:DAYLIGHT
BEGIN:STANDARD
TZOFFSETFROM:+0100
TZOFFSETTO:+0000
TZNAME:GMT
DTSTART:20261025T010000
END:STANDARD
BEGIN:DAYLIGHT
TZOFFSETFROM:+0000
TZOFFSETTO:+0100
TZNAME:BST
DTSTART:20270328T010000
END:DAYLIGHT
BEGIN:STANDARD
TZOFFSETFROM:+0100
TZOFFSETTO:+0000
TZNAME:GMT
DTSTART:20271031T010000
END:STANDARD
END:VTIMEZONE
BEGIN:VEVENT
DTSTART;TZID=Europe/London:20260313T190000
DTEND;TZID=Europe/London:20260313T203000
DTSTAMP:20260421T082738
CREATED:20260311T143127Z
LAST-MODIFIED:20260312T074428Z
UID:65628-1773428400-1773433800@calendarioeventos.com
SUMMARY:Inauguración - Exposición: «Lo que nadie quiere ver...»
DESCRIPTION:Inauguración de la Exposición «Lo que nadie quiere ver…» en la Sala de exposiciones Francisco Lezcano\, Casa de la Cultura de Firgas\, Gran Canaria. \nCarmelo Sangó.\ncarmelosangopinturayretratos.com \nHorario de visitas\nDe lunes a sábado de 11 a 13\,30 y de 18 a 20 horas\nDomingos de 11 a 13\,30 horas
URL:https://calendarioeventos.com/en/evento/inauguracion-exposicion-lo-que-nadie-quiere-ver-2/
LOCATION:Casa de la Cultura Firgas\, Plaza San Roque\, 3\, 35430 Firgas\, Las Palmas
CATEGORIES:Actividades,Eventos gratuitos,Firgas,Inauguración,Pintura
ATTACH;FMTTYPE=image/jpeg:https://calendarioeventos.com/wp-content/uploads/2026/03/inauguraci-n-exposici-n-lo-que-nadie-quiere-ve-1773239486663.avif
END:VEVENT
END:VCALENDAR