BEGIN:VCALENDAR
VERSION:2.0
PRODID:-//Calendario de Eventos Gran Canaria - ECPv6.15.17.1//NONSGML v1.0//EN
CALSCALE:GREGORIAN
METHOD:PUBLISH
X-WR-CALNAME:Calendario de Eventos Gran Canaria
X-ORIGINAL-URL:https://calendarioeventos.com/en
X-WR-CALDESC:Events for Calendario de Eventos Gran Canaria
REFRESH-INTERVAL;VALUE=DURATION:PT1H
X-Robots-Tag:noindex
X-PUBLISHED-TTL:PT1H
BEGIN:VTIMEZONE
TZID:Europe/London
BEGIN:DAYLIGHT
TZOFFSETFROM:+0000
TZOFFSETTO:+0100
TZNAME:BST
DTSTART:20250330T010000
END:DAYLIGHT
BEGIN:STANDARD
TZOFFSETFROM:+0100
TZOFFSETTO:+0000
TZNAME:GMT
DTSTART:20251026T010000
END:STANDARD
BEGIN:DAYLIGHT
TZOFFSETFROM:+0000
TZOFFSETTO:+0100
TZNAME:BST
DTSTART:20260329T010000
END:DAYLIGHT
BEGIN:STANDARD
TZOFFSETFROM:+0100
TZOFFSETTO:+0000
TZNAME:GMT
DTSTART:20261025T010000
END:STANDARD
BEGIN:DAYLIGHT
TZOFFSETFROM:+0000
TZOFFSETTO:+0100
TZNAME:BST
DTSTART:20270328T010000
END:DAYLIGHT
BEGIN:STANDARD
TZOFFSETFROM:+0100
TZOFFSETTO:+0000
TZNAME:GMT
DTSTART:20271031T010000
END:STANDARD
END:VTIMEZONE
BEGIN:VEVENT
DTSTART;TZID=Europe/London:20260319T200000
DTEND;TZID=Europe/London:20260319T213000
DTSTAMP:20260419T174357
CREATED:20260304T195448Z
LAST-MODIFIED:20260304T195448Z
UID:64422-1773950400-1773955800@calendarioeventos.com
SUMMARY:Inauguración - Exposición: Memorias Colectivas / Represiones Cotidianas
DESCRIPTION:Inauguración de la Exposición «Memorias Colectivas / Represiones Cotidianas» en el Centro Atlántico de Arte Moderno (San Antonio Abad)\, Las Palmas de Gran Canaria \n¡Nueva exposición! Te invitamos a la inauguración de la exposición ‘Memorias colectivas / Represiones cotidianas’ del dúo artístico @artalquadrat\, compuesto por las gemelas valencianas Mónica y Gema del Rey Jordà\, el día 19 de marzo\, en el espacio CAAM-San Antonio Abad. \nEl proyecto expositivo -comisariado por @perezpont– está integrado por una selección de obras de fotografía\, videoinstalación\, instalación sonora y propuestas participativas que abordan la transmisión intergeneracional del trauma\, especialmente vinculada a la violencia ejercida sobre los cuerpos y las identidades\, durante la dictadura franquista. \nEntrada libre.
URL:https://calendarioeventos.com/en/evento/inauguracion-exposicion-memorias-colectivas-represiones-cotidianas/
LOCATION:CAAM – San Antonio Abad
CATEGORIES:Actividades,Arte,Eventos gratuitos,Inauguración,Las Palmas de GC
ATTACH;FMTTYPE=image/png:https://calendarioeventos.com/wp-content/uploads/2026/03/Screenshot-2026-03-04-at-19-52-37-Hoy-•-Instagram.avif
END:VEVENT
END:VCALENDAR