BEGIN:VCALENDAR
VERSION:2.0
PRODID:-//Calendario de Eventos Gran Canaria - ECPv6.15.17.1//NONSGML v1.0//EN
CALSCALE:GREGORIAN
METHOD:PUBLISH
X-WR-CALNAME:Calendario de Eventos Gran Canaria
X-ORIGINAL-URL:https://calendarioeventos.com/en
X-WR-CALDESC:Events for Calendario de Eventos Gran Canaria
REFRESH-INTERVAL;VALUE=DURATION:PT1H
X-Robots-Tag:noindex
X-PUBLISHED-TTL:PT1H
BEGIN:VTIMEZONE
TZID:Europe/London
BEGIN:DAYLIGHT
TZOFFSETFROM:+0000
TZOFFSETTO:+0100
TZNAME:BST
DTSTART:20250330T010000
END:DAYLIGHT
BEGIN:STANDARD
TZOFFSETFROM:+0100
TZOFFSETTO:+0000
TZNAME:GMT
DTSTART:20251026T010000
END:STANDARD
BEGIN:DAYLIGHT
TZOFFSETFROM:+0000
TZOFFSETTO:+0100
TZNAME:BST
DTSTART:20260329T010000
END:DAYLIGHT
BEGIN:STANDARD
TZOFFSETFROM:+0100
TZOFFSETTO:+0000
TZNAME:GMT
DTSTART:20261025T010000
END:STANDARD
BEGIN:DAYLIGHT
TZOFFSETFROM:+0000
TZOFFSETTO:+0100
TZNAME:BST
DTSTART:20270328T010000
END:DAYLIGHT
BEGIN:STANDARD
TZOFFSETFROM:+0100
TZOFFSETTO:+0000
TZNAME:GMT
DTSTART:20271031T010000
END:STANDARD
END:VTIMEZONE
BEGIN:VEVENT
DTSTART;TZID=Europe/London:20260123T103000
DTEND;TZID=Europe/London:20260123T113000
DTSTAMP:20260421T105700
CREATED:20260122T130119Z
LAST-MODIFIED:20260122T130119Z
UID:52792-1769164200-1769167800@calendarioeventos.com
SUMMARY:Inauguración - Exposición: Moby Dick y Las Palmas
DESCRIPTION:Inauguración de la Exposición » Exposición: Moby Dick y Las Palmas de Gran Canaria» en el Museo Elder de Las Palmas de Gran Canaria. \nEste viernes 23 de enero a las 10:30h\, se inaugura en el Museo Elder de la Ciencia y la Tecnología la exposición “Moby Dick y Las Palmas de Gran Canaria”\, que recorre uno de los episodios más singulares de la historia del cine internacional vinculados a la ciudad. \nLa muestra ha sido producida gracias a la colaboración del Ayuntamiento de Las Palmas de Gran Canaria y el Museo Elder de la Ciencia y la Tecnología\, y cuenta con el comisariado de Johannes Peter\, propietario de la gran mayoría de las piezas que se exhiben. \nA través de más de 500 piezas originales\, la exposición analiza tanto la relevancia literaria y cinematográfica de Moby Dick como el impacto cultural\, social y patrimonial que tuvo el rodaje de la película dirigida por John Huston entre 1954 y 1955.
URL:https://calendarioeventos.com/en/evento/inauguracion-exposicion-moby-dick-y-las-palmas/
LOCATION:Museo Elder de la Ciencia y la Tecnología\, Parque Santa Catalina\, 35007 Las Palmas de Gran Canaria\, Las Palmas
CATEGORIES:Actividades,Cine,Eventos gratuitos,Inauguración,Las Palmas de GC
ATTACH;FMTTYPE=image/png:https://calendarioeventos.com/wp-content/uploads/2026/01/Screenshot-2026-01-22-at-12-17-49-Cuarta-Semana-•-Instagram.avif
END:VEVENT
END:VCALENDAR