BEGIN:VCALENDAR
VERSION:2.0
PRODID:-//Calendario de Eventos Gran Canaria - ECPv6.15.17.1//NONSGML v1.0//EN
CALSCALE:GREGORIAN
METHOD:PUBLISH
X-WR-CALNAME:Calendario de Eventos Gran Canaria
X-ORIGINAL-URL:https://calendarioeventos.com/en
X-WR-CALDESC:Events for Calendario de Eventos Gran Canaria
REFRESH-INTERVAL;VALUE=DURATION:PT1H
X-Robots-Tag:noindex
X-PUBLISHED-TTL:PT1H
BEGIN:VTIMEZONE
TZID:Europe/London
BEGIN:DAYLIGHT
TZOFFSETFROM:+0000
TZOFFSETTO:+0100
TZNAME:BST
DTSTART:20250330T010000
END:DAYLIGHT
BEGIN:STANDARD
TZOFFSETFROM:+0100
TZOFFSETTO:+0000
TZNAME:GMT
DTSTART:20251026T010000
END:STANDARD
BEGIN:DAYLIGHT
TZOFFSETFROM:+0000
TZOFFSETTO:+0100
TZNAME:BST
DTSTART:20260329T010000
END:DAYLIGHT
BEGIN:STANDARD
TZOFFSETFROM:+0100
TZOFFSETTO:+0000
TZNAME:GMT
DTSTART:20261025T010000
END:STANDARD
BEGIN:DAYLIGHT
TZOFFSETFROM:+0000
TZOFFSETTO:+0100
TZNAME:BST
DTSTART:20270328T010000
END:DAYLIGHT
BEGIN:STANDARD
TZOFFSETFROM:+0100
TZOFFSETTO:+0000
TZNAME:GMT
DTSTART:20271031T010000
END:STANDARD
END:VTIMEZONE
BEGIN:VEVENT
DTSTART;TZID=Europe/London:20260317T170000
DTEND;TZID=Europe/London:20260317T183000
DTSTAMP:20260419T154558
CREATED:20260316T105454Z
LAST-MODIFIED:20260316T105455Z
UID:66385-1773766800-1773772200@calendarioeventos.com
SUMMARY:Inauguración — Exposición «Nosotras Visibles»
DESCRIPTION:Inauguración de la exposición «Nosotras Visibles» en la Biblioteca Municipal de Santa Brígida\, Gran Canaria. \nInauguración de la exposición que surge del laboratorio fotográfico «Nosotras visibles» con mujeres fotógrafas maravillosas.  \nSe trata de un taller facilitado por Asiría Álvarez con el apoyo del Ayuntamiento de Santa Brígida que busca dar visibilidad al talento femenino a través de la fotografía. \nEl acto inaugural tendrá lugar el martes 17 de marzo a las 17:00 horas en las instalaciones de la biblioteca municipal.
URL:https://calendarioeventos.com/en/evento/inauguracion-exposicion-nosotras-visibles/
LOCATION:Biblioteca Municipal de Santa Brígida\, C. el Calvario\, 23\, 35300 Sta Brígida\, Las Palmas
CATEGORIES:Actividades,Eventos gratuitos,Fotografía,Inauguración,Santa Brígida
ATTACH;FMTTYPE=image/jpeg:https://calendarioeventos.com/wp-content/uploads/2026/03/inauguraci-n-exposici-n-nosotras-visibles-1773658492469.jpeg
END:VEVENT
END:VCALENDAR