BEGIN:VCALENDAR
VERSION:2.0
PRODID:-//Calendario de Eventos Gran Canaria - ECPv6.15.17.1//NONSGML v1.0//EN
CALSCALE:GREGORIAN
METHOD:PUBLISH
X-WR-CALNAME:Calendario de Eventos Gran Canaria
X-ORIGINAL-URL:https://calendarioeventos.com/en
X-WR-CALDESC:Events for Calendario de Eventos Gran Canaria
REFRESH-INTERVAL;VALUE=DURATION:PT1H
X-Robots-Tag:noindex
X-PUBLISHED-TTL:PT1H
BEGIN:VTIMEZONE
TZID:Europe/London
BEGIN:DAYLIGHT
TZOFFSETFROM:+0000
TZOFFSETTO:+0100
TZNAME:BST
DTSTART:20250330T010000
END:DAYLIGHT
BEGIN:STANDARD
TZOFFSETFROM:+0100
TZOFFSETTO:+0000
TZNAME:GMT
DTSTART:20251026T010000
END:STANDARD
BEGIN:DAYLIGHT
TZOFFSETFROM:+0000
TZOFFSETTO:+0100
TZNAME:BST
DTSTART:20260329T010000
END:DAYLIGHT
BEGIN:STANDARD
TZOFFSETFROM:+0100
TZOFFSETTO:+0000
TZNAME:GMT
DTSTART:20261025T010000
END:STANDARD
BEGIN:DAYLIGHT
TZOFFSETFROM:+0000
TZOFFSETTO:+0100
TZNAME:BST
DTSTART:20270328T010000
END:DAYLIGHT
BEGIN:STANDARD
TZOFFSETFROM:+0100
TZOFFSETTO:+0000
TZNAME:GMT
DTSTART:20271031T010000
END:STANDARD
END:VTIMEZONE
BEGIN:VEVENT
DTSTART;TZID=Europe/London:20260306T190000
DTEND;TZID=Europe/London:20260306T203000
DTSTAMP:20260420T212904
CREATED:20250923T145116Z
LAST-MODIFIED:20260226T170210Z
UID:11524-1772823600-1772829000@calendarioeventos.com
SUMMARY:Inauguración - Exposición: The NA Garbage Patch
DESCRIPTION:Inauguración de la Exposición «The NA (North Atlantic) Garbage Patch» de fotografía de de Oliver Behrmann en la Sala Lola Massieu de Santa Brígida\, Gran Canaria. \nEl artista ha fotografiado pequeños trozos de plástico encontrados en las playas de Canarias\,\nutilizando la técnica de la macrofotografía con luz ultravioleta. El resultado son ampliaciones\nespectaculares de las estructuras ocultas del microplástico\, mostrando las huellas que el tiempo\nva dejando en su viaje de fragmentación por el océano. \n 
URL:https://calendarioeventos.com/en/evento/inauguracion-exposicion-the-na-garbage-patch/
LOCATION:Sala de Exposiciones Lola Massieu\, C. Nueva\, s n\, 35300 Sta Brígida\, Las Palmas
CATEGORIES:Actividades,Arte,Eventos gratuitos,Fotografía,Inauguración,Santa Brígida
ATTACH;FMTTYPE=image/png:https://calendarioeventos.com/wp-content/uploads/2025/09/Screenshot-2025-12-30-at-18-22-12-Agenda_Cultural_Cabildo_de_Gran_Canaria.pdf.avif
END:VEVENT
END:VCALENDAR