BEGIN:VCALENDAR
VERSION:2.0
PRODID:-//Calendario de Eventos Gran Canaria - ECPv6.15.17.1//NONSGML v1.0//EN
CALSCALE:GREGORIAN
METHOD:PUBLISH
X-WR-CALNAME:Calendario de Eventos Gran Canaria
X-ORIGINAL-URL:https://calendarioeventos.com/en
X-WR-CALDESC:Events for Calendario de Eventos Gran Canaria
REFRESH-INTERVAL;VALUE=DURATION:PT1H
X-Robots-Tag:noindex
X-PUBLISHED-TTL:PT1H
BEGIN:VTIMEZONE
TZID:Europe/London
BEGIN:DAYLIGHT
TZOFFSETFROM:+0000
TZOFFSETTO:+0100
TZNAME:BST
DTSTART:20250330T010000
END:DAYLIGHT
BEGIN:STANDARD
TZOFFSETFROM:+0100
TZOFFSETTO:+0000
TZNAME:GMT
DTSTART:20251026T010000
END:STANDARD
BEGIN:DAYLIGHT
TZOFFSETFROM:+0000
TZOFFSETTO:+0100
TZNAME:BST
DTSTART:20260329T010000
END:DAYLIGHT
BEGIN:STANDARD
TZOFFSETFROM:+0100
TZOFFSETTO:+0000
TZNAME:GMT
DTSTART:20261025T010000
END:STANDARD
BEGIN:DAYLIGHT
TZOFFSETFROM:+0000
TZOFFSETTO:+0100
TZNAME:BST
DTSTART:20270328T010000
END:DAYLIGHT
BEGIN:STANDARD
TZOFFSETFROM:+0100
TZOFFSETTO:+0000
TZNAME:GMT
DTSTART:20271031T010000
END:STANDARD
END:VTIMEZONE
BEGIN:VEVENT
DTSTART;TZID=Europe/London:20260315T123000
DTEND;TZID=Europe/London:20260315T140000
DTSTAMP:20260421T105157
CREATED:20260226T174148Z
LAST-MODIFIED:20260305T115332Z
UID:62574-1773577800-1773583200@calendarioeventos.com
SUMMARY:Inauguración - Jornadas Música de Cámara Villa de Moya
DESCRIPTION:Inauguración y Concierto de las XIX Jornadas Música de Cámara Villa de Moya en la Casa-Museo Tomás Morales\, Moya. \nConcierto Tapeando por España\, canción española y zarzuela. \nCon Aridane Betancor Castellano\, tenor; Andrea Carpintero Toro\, soprano y Nauzet Mederos Martín\, pianista. \nActividades gratuitas. Aforo limitado.
URL:https://calendarioeventos.com/en/evento/inauguracion-jornadas-musica-de-camara-villa-de-moya/
LOCATION:Casa-Museo Tomás Morales\, Casa-Museo Tomás Morales\, Moya\, Gran Canaria
CATEGORIES:Concierto,Cultura,Eventos gratuitos,Moya
ATTACH;FMTTYPE=image/png:https://calendarioeventos.com/wp-content/uploads/2026/02/inauguraci-n-jornadas-m-sica-de-c-mara-villa-de-1772127705720.avif
END:VEVENT
END:VCALENDAR