BEGIN:VCALENDAR
VERSION:2.0
PRODID:-//Calendario de Eventos Gran Canaria - ECPv6.15.17.1//NONSGML v1.0//EN
CALSCALE:GREGORIAN
METHOD:PUBLISH
X-WR-CALNAME:Calendario de Eventos Gran Canaria
X-ORIGINAL-URL:https://calendarioeventos.com/en
X-WR-CALDESC:Events for Calendario de Eventos Gran Canaria
REFRESH-INTERVAL;VALUE=DURATION:PT1H
X-Robots-Tag:noindex
X-PUBLISHED-TTL:PT1H
BEGIN:VTIMEZONE
TZID:Europe/London
BEGIN:DAYLIGHT
TZOFFSETFROM:+0000
TZOFFSETTO:+0100
TZNAME:BST
DTSTART:20250330T010000
END:DAYLIGHT
BEGIN:STANDARD
TZOFFSETFROM:+0100
TZOFFSETTO:+0000
TZNAME:GMT
DTSTART:20251026T010000
END:STANDARD
BEGIN:DAYLIGHT
TZOFFSETFROM:+0000
TZOFFSETTO:+0100
TZNAME:BST
DTSTART:20260329T010000
END:DAYLIGHT
BEGIN:STANDARD
TZOFFSETFROM:+0100
TZOFFSETTO:+0000
TZNAME:GMT
DTSTART:20261025T010000
END:STANDARD
BEGIN:DAYLIGHT
TZOFFSETFROM:+0000
TZOFFSETTO:+0100
TZNAME:BST
DTSTART:20270328T010000
END:DAYLIGHT
BEGIN:STANDARD
TZOFFSETFROM:+0100
TZOFFSETTO:+0000
TZNAME:GMT
DTSTART:20271031T010000
END:STANDARD
END:VTIMEZONE
BEGIN:VEVENT
DTSTART;TZID=Europe/London:20260320T183000
DTEND;TZID=Europe/London:20260320T200000
DTSTAMP:20260419T160219
CREATED:20260313T190312Z
LAST-MODIFIED:20260314T091952Z
UID:66090-1774031400-1774036800@calendarioeventos.com
SUMMARY:Inauguración —  «Muestra de Arte\, Cultura y Ruralidades»
DESCRIPTION:Inauguración de la Muestra de Arte\, Cultura y Ruralidades en el Museo Elder\, Las Palmas de Gran Canaria. \nUn viaje por el medio rural de Gran Canaria a través de procesos creativos\, y de experimentación en torno a la ruralidad y el territorio. Fotografía\, Pintura\, Ilustración\, Grabado\, Música\, Escritura y Performance. Paisaje. Memoria. Identidad. \nUna Muestra que conecta lo rural y la creación contemporánea\, fomentando las artes en los contextos rurales. ¿Te vienes al viaje? \nLa muestra cuenta con la participación de artistas como Arcadio Suárez\, Alex Falcón\, Ángel Medina\, Aurora Jiménez\, Belén del Mar\, Delfour Photographer\, La Piel de Gran Canaria\, Elia Verona\, Elsa Litre\, Frank Hernández\, Gustavo Martín\, Irene León\, José C. Guerra\, Leandro Betancor\, Ilustra Canarias\, Leire Garma\, También soy Canario\, Nacho González Oramas\, Ortosa Fotos\, Priscila Valencia\, Sarayun\, Saro Acosta\, Yuri Millares\, Alicia Pardilla\, Avatara Design\, Sergio Trasmallo\, Con Voz Propia y Lajalada. \nEntrada libre hasta completar aforo.
URL:https://calendarioeventos.com/en/evento/inauguracion-muestra-de-arte-cultura-y-ruralidades/
LOCATION:Museo Elder de la Ciencia y la Tecnología\, Parque Santa Catalina\, 35007 Las Palmas de Gran Canaria\, Las Palmas
CATEGORIES:Actividades,Arte,Eventos gratuitos,Inauguración,Las Palmas de GC,Música,Pintura
ATTACH;FMTTYPE=image/jpeg:https://calendarioeventos.com/wp-content/uploads/2026/03/inauguraci-n-muestra-de-arte-cultura-y-rurali-1773428590583.jpeg
END:VEVENT
END:VCALENDAR