BEGIN:VCALENDAR
VERSION:2.0
PRODID:-//Calendario de Eventos Gran Canaria - ECPv6.15.17.1//NONSGML v1.0//EN
CALSCALE:GREGORIAN
METHOD:PUBLISH
X-WR-CALNAME:Calendario de Eventos Gran Canaria
X-ORIGINAL-URL:https://calendarioeventos.com/en
X-WR-CALDESC:Events for Calendario de Eventos Gran Canaria
REFRESH-INTERVAL;VALUE=DURATION:PT1H
X-Robots-Tag:noindex
X-PUBLISHED-TTL:PT1H
BEGIN:VTIMEZONE
TZID:Europe/London
BEGIN:DAYLIGHT
TZOFFSETFROM:+0000
TZOFFSETTO:+0100
TZNAME:BST
DTSTART:20250330T010000
END:DAYLIGHT
BEGIN:STANDARD
TZOFFSETFROM:+0100
TZOFFSETTO:+0000
TZNAME:GMT
DTSTART:20251026T010000
END:STANDARD
BEGIN:DAYLIGHT
TZOFFSETFROM:+0000
TZOFFSETTO:+0100
TZNAME:BST
DTSTART:20260329T010000
END:DAYLIGHT
BEGIN:STANDARD
TZOFFSETFROM:+0100
TZOFFSETTO:+0000
TZNAME:GMT
DTSTART:20261025T010000
END:STANDARD
BEGIN:DAYLIGHT
TZOFFSETFROM:+0000
TZOFFSETTO:+0100
TZNAME:BST
DTSTART:20270328T010000
END:DAYLIGHT
BEGIN:STANDARD
TZOFFSETFROM:+0100
TZOFFSETTO:+0000
TZNAME:GMT
DTSTART:20271031T010000
END:STANDARD
END:VTIMEZONE
BEGIN:VEVENT
DTSTART;TZID=Europe/London:20260228T100000
DTEND;TZID=Europe/London:20260228T130000
DTSTAMP:20260420T031831
CREATED:20260210T083314Z
LAST-MODIFIED:20260217T112256Z
UID:58052-1772272800-1772283600@calendarioeventos.com
SUMMARY:Infantil - Bebécultura "Desde dentro"
DESCRIPTION:Infantil – Bebécultura “Desde dentro” a cargo de Vicki Dos Santos en la Bebéteca Masía Catalana de Vecindario\, Gran Canaria. \nEntre cantos y cuentos\, reiremos\, saltaremos y jugaremos con nuestro cuerpo. Desde la panza de mamá oímos voces y cantos\, palabras que van danzando y como un eco nos van contando el mundo que nos espera fuera. Vamos a jugar con nuestro cuerpo\, a reír y saltar entre canto y cuento. \nInscripciones en el Ateneo Municipal. 5€ \nSesiones a las 10 y a 12h. \nIncluye a un bebé y un adulto. \n 
URL:https://calendarioeventos.com/en/evento/infantil-bebecultura-desde-dentro/
LOCATION:Bebéteca Masía Catalana\, C/ Castrillo\, 2\, Bajo 35110 - Santa Lucía de Tirajana
CATEGORIES:Arte,Cultura,Edad,Infantil,Música,Santa Lucía de Tirajana
ATTACH;FMTTYPE=image/jpeg:https://calendarioeventos.com/wp-content/uploads/2026/02/628862285_18041782910739169_1468861497853608940_n.avif
END:VEVENT
END:VCALENDAR