BEGIN:VCALENDAR
VERSION:2.0
PRODID:-//Calendario de Eventos Gran Canaria - ECPv6.15.17.1//NONSGML v1.0//EN
CALSCALE:GREGORIAN
METHOD:PUBLISH
X-WR-CALNAME:Calendario de Eventos Gran Canaria
X-ORIGINAL-URL:https://calendarioeventos.com/en
X-WR-CALDESC:Events for Calendario de Eventos Gran Canaria
REFRESH-INTERVAL;VALUE=DURATION:PT1H
X-Robots-Tag:noindex
X-PUBLISHED-TTL:PT1H
BEGIN:VTIMEZONE
TZID:Europe/London
BEGIN:DAYLIGHT
TZOFFSETFROM:+0000
TZOFFSETTO:+0100
TZNAME:BST
DTSTART:20250330T010000
END:DAYLIGHT
BEGIN:STANDARD
TZOFFSETFROM:+0100
TZOFFSETTO:+0000
TZNAME:GMT
DTSTART:20251026T010000
END:STANDARD
BEGIN:DAYLIGHT
TZOFFSETFROM:+0000
TZOFFSETTO:+0100
TZNAME:BST
DTSTART:20260329T010000
END:DAYLIGHT
BEGIN:STANDARD
TZOFFSETFROM:+0100
TZOFFSETTO:+0000
TZNAME:GMT
DTSTART:20261025T010000
END:STANDARD
BEGIN:DAYLIGHT
TZOFFSETFROM:+0000
TZOFFSETTO:+0100
TZNAME:BST
DTSTART:20270328T010000
END:DAYLIGHT
BEGIN:STANDARD
TZOFFSETFROM:+0100
TZOFFSETTO:+0000
TZNAME:GMT
DTSTART:20271031T010000
END:STANDARD
END:VTIMEZONE
BEGIN:VEVENT
DTSTART;TZID=Europe/London:20260314T120000
DTEND;TZID=Europe/London:20260314T130000
DTSTAMP:20260420T031944
CREATED:20250115T000000Z
LAST-MODIFIED:20260223T123853Z
UID:2975-1773489600-1773493200@calendarioeventos.com
SUMMARY:Infantil - Cuentacuentos inclusivos
DESCRIPTION:Evento infantil – Cuentacuentos inclusivos con Charlie Marrero en Librería Agapea Las Palmas de Gran Canaria. \n\nActividad gratuita. \nEntrada libre hasta completar el aforo. \nEdad: A partir de 3 años.
URL:https://calendarioeventos.com/en/evento/infantil-cuentacuentos-inclusivos/
LOCATION:Agapea Las Palmas\, C. José Franchy Roca\, 13\, 35007 Las Palmas de Gran Canaria\, Las Palmas
CATEGORIES:Cultura,Edad,Eventos gratuitos,Infantil,Las Palmas de GC,Literatura,Municipio,Precio
ATTACH;FMTTYPE=image/jpeg:https://calendarioeventos.com/wp-content/uploads/2025/06/2026-02-20-21-51-27_6998c94f6f274_722x384.avif
END:VEVENT
END:VCALENDAR