BEGIN:VCALENDAR
VERSION:2.0
PRODID:-//Calendario de Eventos Gran Canaria - ECPv6.15.17.1//NONSGML v1.0//EN
CALSCALE:GREGORIAN
METHOD:PUBLISH
X-WR-CALNAME:Calendario de Eventos Gran Canaria
X-ORIGINAL-URL:https://calendarioeventos.com/en
X-WR-CALDESC:Events for Calendario de Eventos Gran Canaria
REFRESH-INTERVAL;VALUE=DURATION:PT1H
X-Robots-Tag:noindex
X-PUBLISHED-TTL:PT1H
BEGIN:VTIMEZONE
TZID:Europe/London
BEGIN:DAYLIGHT
TZOFFSETFROM:+0000
TZOFFSETTO:+0100
TZNAME:BST
DTSTART:20240331T010000
END:DAYLIGHT
BEGIN:STANDARD
TZOFFSETFROM:+0100
TZOFFSETTO:+0000
TZNAME:GMT
DTSTART:20241027T010000
END:STANDARD
BEGIN:DAYLIGHT
TZOFFSETFROM:+0000
TZOFFSETTO:+0100
TZNAME:BST
DTSTART:20250330T010000
END:DAYLIGHT
BEGIN:STANDARD
TZOFFSETFROM:+0100
TZOFFSETTO:+0000
TZNAME:GMT
DTSTART:20251026T010000
END:STANDARD
BEGIN:DAYLIGHT
TZOFFSETFROM:+0000
TZOFFSETTO:+0100
TZNAME:BST
DTSTART:20260329T010000
END:DAYLIGHT
BEGIN:STANDARD
TZOFFSETFROM:+0100
TZOFFSETTO:+0000
TZNAME:GMT
DTSTART:20261025T010000
END:STANDARD
END:VTIMEZONE
BEGIN:VEVENT
DTSTART;TZID=Europe/London:20251221T183000
DTEND;TZID=Europe/London:20251221T200000
DTSTAMP:20260425T124543
CREATED:20251207T235534Z
LAST-MODIFIED:20251207T235534Z
UID:41550-1766341800-1766347200@calendarioeventos.com
SUMMARY:Infantil - El Zapatero Real - Gáldar
DESCRIPTION:Obra de Teatro infantil ‘EL ZAPATERO REAL’ en el Centro Cultural Guaires\, Gáldar\, Gran Canaria. \nEn una aldea de Cuentópolis\, Denis\, un zapatero artesano lucha por sobrevivir con los pocos materiales de que dispone haciendo lo único que sabe… fabricar zapatos. \nSólo cuenta con la ayuda de su amiga Sophie\, quien cree firmemente en su talento y lo alienta a no desistir. Una noche recibe la visita de unos mágicos duendes\, los Clovens\, encargados de ayudar a los humanos mediante una ancestral tradición: “el rito del hilo de oro”. \nGracias a la ayuda de estos duendes que brindan al zapatero todos los materiales necesarios\, Denis\, comienza a fabricar zapatos únicos de excelente calidad que llaman la atención del propio Rey\, quién decide nombrarlo su Zapatero Real. \nA partir de ahí surgen aventuras inesperadas entre los humanos\, los duendes y la realeza que harán que el destino de nuestros protagonistas cambie para siempre. \nEntradas en este enlace.
URL:https://calendarioeventos.com/en/evento/infantil-el-zapatero-real-galdar/
LOCATION:Centro Cultural Guaires\, C. Guaires\, 28\, 35460 Gáldar\, Las Palmas
CATEGORIES:Cultura,Infantil,Teatro,Valleseco
ATTACH;FMTTYPE=image/jpeg:https://calendarioeventos.com/wp-content/uploads/2025/12/Cartel-el-Zapatero-Real-1-preview.avif
END:VEVENT
END:VCALENDAR