BEGIN:VCALENDAR
VERSION:2.0
PRODID:-//Calendario de Eventos Gran Canaria - ECPv6.15.17.1//NONSGML v1.0//EN
CALSCALE:GREGORIAN
METHOD:PUBLISH
X-WR-CALNAME:Calendario de Eventos Gran Canaria
X-ORIGINAL-URL:https://calendarioeventos.com/en
X-WR-CALDESC:Events for Calendario de Eventos Gran Canaria
REFRESH-INTERVAL;VALUE=DURATION:PT1H
X-Robots-Tag:noindex
X-PUBLISHED-TTL:PT1H
BEGIN:VTIMEZONE
TZID:Europe/London
BEGIN:DAYLIGHT
TZOFFSETFROM:+0000
TZOFFSETTO:+0100
TZNAME:BST
DTSTART:20240331T010000
END:DAYLIGHT
BEGIN:STANDARD
TZOFFSETFROM:+0100
TZOFFSETTO:+0000
TZNAME:GMT
DTSTART:20241027T010000
END:STANDARD
BEGIN:DAYLIGHT
TZOFFSETFROM:+0000
TZOFFSETTO:+0100
TZNAME:BST
DTSTART:20250330T010000
END:DAYLIGHT
BEGIN:STANDARD
TZOFFSETFROM:+0100
TZOFFSETTO:+0000
TZNAME:GMT
DTSTART:20251026T010000
END:STANDARD
BEGIN:DAYLIGHT
TZOFFSETFROM:+0000
TZOFFSETTO:+0100
TZNAME:BST
DTSTART:20260329T010000
END:DAYLIGHT
BEGIN:STANDARD
TZOFFSETFROM:+0100
TZOFFSETTO:+0000
TZNAME:GMT
DTSTART:20261025T010000
END:STANDARD
END:VTIMEZONE
BEGIN:VEVENT
DTSTART;TZID=Europe/London:20251115T110000
DTEND;TZID=Europe/London:20251115T130000
DTSTAMP:20260423T100322
CREATED:20251113T180754Z
LAST-MODIFIED:20251113T180754Z
UID:33072-1763204400-1763211600@calendarioeventos.com
SUMMARY:Infantil - JugArte Arcilla
DESCRIPTION:Infantil – JugArte Arcilla en la Plaza de Piso Firmo\, Gáldar\, Gran Canaria. \nIniciativa ‘Barrios Vivos’\, una propuesta educativa\, cultural y de ocio familiar que lleva espacios de juego y arte a los distintos barrios del municipio. \nUna mañana pensada para que niños\, niñas y familias disfruten\, creen y compartan en comunidad. \nEl proyecto Barrios Vivos forma parte del programa Gáldar Educa\, apoyado por el Plan Corresponsables a través de la FECAM\, y se realiza con la colaboración de la asociación @8pies \, fomentando la creatividad\, el juego y la convivencia en los barrios. \n📲 La participación requiere inscripción previa por WhatsApp al 649 300 304.
URL:https://calendarioeventos.com/en/evento/infantil-jugarte-arcilla/
LOCATION:Piso Firme\, 35468 Las Palmas
CATEGORIES:Arte,Entretenimiento,Eventos gratuitos,Gáldar,Infantil,Juegos
ATTACH;FMTTYPE=image/png:https://calendarioeventos.com/wp-content/uploads/2025/11/Screenshot-2025-11-13-at-18-05-44-Instagram.avif
END:VEVENT
END:VCALENDAR