BEGIN:VCALENDAR
VERSION:2.0
PRODID:-//Calendario de Eventos Gran Canaria - ECPv6.15.17.1//NONSGML v1.0//EN
CALSCALE:GREGORIAN
METHOD:PUBLISH
X-WR-CALNAME:Calendario de Eventos Gran Canaria
X-ORIGINAL-URL:https://calendarioeventos.com/en
X-WR-CALDESC:Events for Calendario de Eventos Gran Canaria
REFRESH-INTERVAL;VALUE=DURATION:PT1H
X-Robots-Tag:noindex
X-PUBLISHED-TTL:PT1H
BEGIN:VTIMEZONE
TZID:Europe/London
BEGIN:DAYLIGHT
TZOFFSETFROM:+0000
TZOFFSETTO:+0100
TZNAME:BST
DTSTART:20250330T010000
END:DAYLIGHT
BEGIN:STANDARD
TZOFFSETFROM:+0100
TZOFFSETTO:+0000
TZNAME:GMT
DTSTART:20251026T010000
END:STANDARD
BEGIN:DAYLIGHT
TZOFFSETFROM:+0000
TZOFFSETTO:+0100
TZNAME:BST
DTSTART:20260329T010000
END:DAYLIGHT
BEGIN:STANDARD
TZOFFSETFROM:+0100
TZOFFSETTO:+0000
TZNAME:GMT
DTSTART:20261025T010000
END:STANDARD
BEGIN:DAYLIGHT
TZOFFSETFROM:+0000
TZOFFSETTO:+0100
TZNAME:BST
DTSTART:20270328T010000
END:DAYLIGHT
BEGIN:STANDARD
TZOFFSETFROM:+0100
TZOFFSETTO:+0000
TZNAME:GMT
DTSTART:20271031T010000
END:STANDARD
END:VTIMEZONE
BEGIN:VEVENT
DTSTART;TZID=Europe/London:20260103T113000
DTEND;TZID=Europe/London:20260103T123000
DTSTAMP:20260424T082233
CREATED:20260103T113025Z
LAST-MODIFIED:20260103T113205Z
UID:49241-1767439800-1767443400@calendarioeventos.com
SUMMARY:Infantil - Manualidades Reyes Magos
DESCRIPTION:Taller infantil «Manualidades Reyes Magos» en Las Ramblas Centro\, Plaza Parque infantil\, Las Palmas de Gran Canaria. \n¡Nos visita el Paje Real! (11:30 h)\n📍 Tarima sobre la charca
URL:https://calendarioeventos.com/en/evento/infantil-manualidades-reyes-magos/
LOCATION:Centro Comercial Las Ramblas Centro\, Av. Juan Carlos I\, Nº 29\, 35019 Las Palmas de Gran Canaria\, Las Palmas
CATEGORIES:Actividades,Edad,Eventos gratuitos,Infantil,Las Palmas de GC,Municipio,Precio,Taller
ATTACH;FMTTYPE=image/png:https://calendarioeventos.com/wp-content/uploads/2026/01/Screenshot-2026-01-03-at-11-28-43-Instagram.avif
END:VEVENT
END:VCALENDAR