BEGIN:VCALENDAR
VERSION:2.0
PRODID:-//Calendario de Eventos Gran Canaria - ECPv6.15.17.1//NONSGML v1.0//EN
CALSCALE:GREGORIAN
METHOD:PUBLISH
X-WR-CALNAME:Calendario de Eventos Gran Canaria
X-ORIGINAL-URL:https://calendarioeventos.com/en
X-WR-CALDESC:Events for Calendario de Eventos Gran Canaria
REFRESH-INTERVAL;VALUE=DURATION:PT1H
X-Robots-Tag:noindex
X-PUBLISHED-TTL:PT1H
BEGIN:VTIMEZONE
TZID:Europe/London
BEGIN:DAYLIGHT
TZOFFSETFROM:+0000
TZOFFSETTO:+0100
TZNAME:BST
DTSTART:20250330T010000
END:DAYLIGHT
BEGIN:STANDARD
TZOFFSETFROM:+0100
TZOFFSETTO:+0000
TZNAME:GMT
DTSTART:20251026T010000
END:STANDARD
BEGIN:DAYLIGHT
TZOFFSETFROM:+0000
TZOFFSETTO:+0100
TZNAME:BST
DTSTART:20260329T010000
END:DAYLIGHT
BEGIN:STANDARD
TZOFFSETFROM:+0100
TZOFFSETTO:+0000
TZNAME:GMT
DTSTART:20261025T010000
END:STANDARD
BEGIN:DAYLIGHT
TZOFFSETFROM:+0000
TZOFFSETTO:+0100
TZNAME:BST
DTSTART:20270328T010000
END:DAYLIGHT
BEGIN:STANDARD
TZOFFSETFROM:+0100
TZOFFSETTO:+0000
TZNAME:GMT
DTSTART:20271031T010000
END:STANDARD
END:VTIMEZONE
BEGIN:VEVENT
DTSTART;TZID=Europe/London:20260103T170000
DTEND;TZID=Europe/London:20260103T183000
DTSTAMP:20260424T002418
CREATED:20251218T163416Z
LAST-MODIFIED:20251218T163416Z
UID:45300-1767459600-1767465000@calendarioeventos.com
SUMMARY:Infantil - "Megahits" de Cantajuego
DESCRIPTION:Infantil – «Megahits» de Cantajuego en el Auditorio Parque San Juan\, Telde\, Gran Canaria. \n¡Vuelve la alegría de CantaJuego con un espectáculo lleno de sus mega hits!. \nPensado para toda la familia\, los más pequeños\, junto a sus seres queridos\, podrán cantar\, bailar y disfrutar con los CantaJuegos y sus entrañables amigos —Coco\, Pepe\, Buby\, entre muchos otros— que siempre los acompañan. \nA lo largo del show\, reviviremos las canciones más queridas de CantaJuego\, llenas de diversión\, aprendizaje y energía\, que han conquistado a grandes y pequeños por igual. No faltarán clásicos como “El Chuchuwá”\, “Cosquillas”\, “Soy una taza”\, y muchos más\, que harán vibrar a todo el público. \nUn espectáculo lleno de momentos inolvidables\, perfecto para disfrutar en familia\, conectar a través de la música y sumergirse en el universo mágico de CantaJuego al ritmo de sus grandes éxitos. \nCantaJuego\, reconocido con el prestigioso Botón Diamante por superar los 11 millones de suscriptores en YouTube\, celebra sus 20 años de trayectoria como el referente indiscutible de la música infantil en español. \nEntradas en este enlace.
URL:https://calendarioeventos.com/en/evento/infantil-megahits-de-cantajuego/
LOCATION:Auditorio Parque San Juan\, Calle Dr. Gumersindo Velázquez Santana\, 6\, 35200 Telde\, Las Palmas
CATEGORIES:Cultura,Infantil,Música,Teatro,Telde
ATTACH;FMTTYPE=image/jpeg:https://calendarioeventos.com/wp-content/uploads/2025/12/Con-logo-preview.avif
END:VEVENT
END:VCALENDAR