BEGIN:VCALENDAR
VERSION:2.0
PRODID:-//Calendario de Eventos Gran Canaria - ECPv6.15.17.1//NONSGML v1.0//EN
CALSCALE:GREGORIAN
METHOD:PUBLISH
X-WR-CALNAME:Calendario de Eventos Gran Canaria
X-ORIGINAL-URL:https://calendarioeventos.com/en
X-WR-CALDESC:Events for Calendario de Eventos Gran Canaria
REFRESH-INTERVAL;VALUE=DURATION:PT1H
X-Robots-Tag:noindex
X-PUBLISHED-TTL:PT1H
BEGIN:VTIMEZONE
TZID:Europe/London
BEGIN:DAYLIGHT
TZOFFSETFROM:+0000
TZOFFSETTO:+0100
TZNAME:BST
DTSTART:20240331T010000
END:DAYLIGHT
BEGIN:STANDARD
TZOFFSETFROM:+0100
TZOFFSETTO:+0000
TZNAME:GMT
DTSTART:20241027T010000
END:STANDARD
BEGIN:DAYLIGHT
TZOFFSETFROM:+0000
TZOFFSETTO:+0100
TZNAME:BST
DTSTART:20250330T010000
END:DAYLIGHT
BEGIN:STANDARD
TZOFFSETFROM:+0100
TZOFFSETTO:+0000
TZNAME:GMT
DTSTART:20251026T010000
END:STANDARD
BEGIN:DAYLIGHT
TZOFFSETFROM:+0000
TZOFFSETTO:+0100
TZNAME:BST
DTSTART:20260329T010000
END:DAYLIGHT
BEGIN:STANDARD
TZOFFSETFROM:+0100
TZOFFSETTO:+0000
TZNAME:GMT
DTSTART:20261025T010000
END:STANDARD
END:VTIMEZONE
BEGIN:VEVENT
DTSTART;TZID=Europe/London:20251220T100000
DTEND;TZID=Europe/London:20251220T220000
DTSTAMP:20260425T142221
CREATED:20251211T204310Z
LAST-MODIFIED:20251217T174444Z
UID:10011539-1766224800-1766268000@calendarioeventos.com
SUMMARY:Infantil - Navidades del Mundo
DESCRIPTION:Infantil – Navidades del Mundo en el Parque del Sur de Maspalomas\, San Bartolomé de Tirajana\, Gran Canaria. \n𝗖𝗮𝗹𝗲𝗻𝗱𝗮𝗿𝗶𝗼 𝗱𝗲 𝗵𝗼𝗿𝗮𝗿𝗶𝗼𝘀:\n🔹 20\, 22\, 23\, 25\, 26\, 27\, 29\, 30 diciembre\, 2 y 3 de enero: 17:00 a 22:00 h\n🔹 21 y 28 de diciembre y 4 de enero: 10:00 – 14:00 h y de 17:00 a 22:00 h \nCerrado: \n🔹 24 y 31 de diciembre y 1 de enero. \nMercadillos temáticos\, pista de patinaje\, espectáculos\, ambientación especial\, rincón de la Navidad\, trenecito y muchas sorpresas más… \nMuy pronto compartiremos 𝘁𝗼𝗱𝗮 𝗹𝗮 𝗽𝗿𝗼𝗴𝗿𝗮𝗺𝗮𝗰𝗶𝗼́𝗻 𝘆 𝗻𝗼𝘃𝗲𝗱𝗮𝗱𝗲𝘀 que harán de esta edición una experiencia inolvidable para familias\, peques y visitantes. \n\n GRAN INAUGURACIÓN: Sábado 20 de diciembre.\n▪️17:00 h: Pasacalle de Bienvenida.\n▪️17:30 h: 16º Ruta Motera Papá Noel.\n▪️18:00 h: Actuación del grupo infantil Pica Pica.\n▪️20:00 h: Concierto de Maldita EGB.\n▪️21:30 h: Concierto de Los 600.\n ¿𝗤𝘂𝗲́ 𝗲𝗻𝗰𝗼𝗻𝘁𝗿𝗮𝗿𝗮́𝘀 𝘁𝗼𝗱𝗼𝘀 𝗹𝗼𝘀 𝗱𝗶́𝗮𝘀? Contaremos con un recinto lleno de ilusión de 17:00 a 22:00 h (con horarios especiales los domingos de mañana y tarde):\n⛸️ Pista de patinaje y Trenecito. \n🏰 Casa de la Navidad e Hinchables.\n🎨 Talleres\, Pintacaras y Legonavidad.\n🎭 Teatro de la Navidad y Exponavidades del Mundo.\n🎤 Grandes actuaciones.\n🎬Cine de Navidad\, cuentacuentos y ¡visita del Paje Real!.\n\nConsulta el programa aquí: https://tr.ee/navidadesmundo25
URL:https://calendarioeventos.com/en/evento/infantil-navidades-del-mundo/2025-12-20/
LOCATION:Parque del Sur\, Sonnenland\, 35100 Maspalomas\, Las Palmas\, Las Palmas\, Spain
CATEGORIES:Actividades,Feria,Infantil,Juegos,Market,San Bartolomé de Tirajana,Taller
ATTACH;FMTTYPE=image/png:https://calendarioeventos.com/wp-content/uploads/2025/12/Screenshot-2025-12-11-at-20-42-03-Instagram.avif
GEO:27.764423764848;15.595032135508
X-APPLE-STRUCTURED-LOCATION;VALUE=URI;X-ADDRESS=Parque del Sur Sonnenland 35100 Maspalomas Las Palmas Las Palmas Spain;X-APPLE-RADIUS=500;X-TITLE=Sonnenland\, 35100 Maspalomas\, Las Palmas:geo:15.595032135508,27.764423764848
END:VEVENT
END:VCALENDAR