BEGIN:VCALENDAR
VERSION:2.0
PRODID:-//Calendario de Eventos Gran Canaria - ECPv6.15.17.1//NONSGML v1.0//EN
CALSCALE:GREGORIAN
METHOD:PUBLISH
X-WR-CALNAME:Calendario de Eventos Gran Canaria
X-ORIGINAL-URL:https://calendarioeventos.com/en
X-WR-CALDESC:Events for Calendario de Eventos Gran Canaria
REFRESH-INTERVAL;VALUE=DURATION:PT1H
X-Robots-Tag:noindex
X-PUBLISHED-TTL:PT1H
BEGIN:VTIMEZONE
TZID:Europe/London
BEGIN:DAYLIGHT
TZOFFSETFROM:+0000
TZOFFSETTO:+0100
TZNAME:BST
DTSTART:20240331T010000
END:DAYLIGHT
BEGIN:STANDARD
TZOFFSETFROM:+0100
TZOFFSETTO:+0000
TZNAME:GMT
DTSTART:20241027T010000
END:STANDARD
BEGIN:DAYLIGHT
TZOFFSETFROM:+0000
TZOFFSETTO:+0100
TZNAME:BST
DTSTART:20250330T010000
END:DAYLIGHT
BEGIN:STANDARD
TZOFFSETFROM:+0100
TZOFFSETTO:+0000
TZNAME:GMT
DTSTART:20251026T010000
END:STANDARD
BEGIN:DAYLIGHT
TZOFFSETFROM:+0000
TZOFFSETTO:+0100
TZNAME:BST
DTSTART:20260329T010000
END:DAYLIGHT
BEGIN:STANDARD
TZOFFSETFROM:+0100
TZOFFSETTO:+0000
TZNAME:GMT
DTSTART:20261025T010000
END:STANDARD
END:VTIMEZONE
BEGIN:VEVENT
DTSTART;TZID=Europe/London:20251227T100000
DTEND;TZID=Europe/London:20251227T150000
DTSTAMP:20260425T113229
CREATED:20251125T175310Z
LAST-MODIFIED:20251217T142822Z
UID:10011832-1766829600-1766847600@calendarioeventos.com
SUMMARY:Ingeniarte en Navidad
DESCRIPTION:Ingeniarte en Navidad\, en la Plaza de Ntra Sra. de la Candelaria y alrededores\, Ingenio\, Gran Canaria. \nUn evento para disfrutar de la familia\,amigos o simplemente dejarte sorprender por el talento local y la magia de las calles. \nLos próximos 13 y 14 de Diciembre la Plaza de la Candelaria se llenará de música\, arte\, tradición\, cultura y artesanía. \nPasacalles\, conciertos únicos\, actividades para peques\, artesanía y mucho más. \nPrograma del sábado 13 de diciembre: \n\n17:00 a 22:00 h: Mercado de artesanía.\n17:30 a 19:30 h: Ludoteca y juegos infantiles.\n18:00 h: Música a la luz de las velas.\n18:00 h: Bola de Navidad (photocall navideño).\n18:30 h: El circo de pulgas.\n19:00 h: Fotomatón 360.\n19:30 h: Gran pasacalles Papá Noel.\n20:00 h: Doggy Dixie Band.\n20:00 h: Fotos con Papá Noel.\n20:30 h: Cris Giannattasio.\n21:00 h: Olga Cerpa y Mestisay (Vereda Tropical). – En el Teatro Federico García Lorca.\n22:30 h: Parranda Pa’Ingenio.\n23:30 h: Los del Son.\n\nPrograma del domingo 14 de diciembre: \n\n10:00 a 14:00 h: Mercado de artesanía.\n10:00h – Encuentro solidario de Ganchillo.\n11:00 a 12:00 h: Clown.\n13:30 h: Jaleo Music.\n\nPrograma de actos de Navidad en Ingenio 2025.
URL:https://calendarioeventos.com/en/evento/ingeniarte-en-navidad/2025-12-27/
LOCATION:Pl. de la Candelaria\, Pl. de la Candelaria\, Ingenio\, Gran Canaria
CATEGORIES:Concierto,Cultura,Eventos gratuitos,Humor,Infantil,Ingenio,Música
ATTACH;FMTTYPE=image/png:https://calendarioeventos.com/wp-content/uploads/2025/11/Screenshot-2025-12-17-at-14-26-37-Instagram.avif
END:VEVENT
END:VCALENDAR