BEGIN:VCALENDAR
VERSION:2.0
PRODID:-//Calendario de Eventos Gran Canaria - ECPv6.15.17.1//NONSGML v1.0//EN
CALSCALE:GREGORIAN
METHOD:PUBLISH
X-WR-CALNAME:Calendario de Eventos Gran Canaria
X-ORIGINAL-URL:https://calendarioeventos.com/en
X-WR-CALDESC:Events for Calendario de Eventos Gran Canaria
REFRESH-INTERVAL;VALUE=DURATION:PT1H
X-Robots-Tag:noindex
X-PUBLISHED-TTL:PT1H
BEGIN:VTIMEZONE
TZID:Europe/London
BEGIN:DAYLIGHT
TZOFFSETFROM:+0000
TZOFFSETTO:+0100
TZNAME:BST
DTSTART:20240331T010000
END:DAYLIGHT
BEGIN:STANDARD
TZOFFSETFROM:+0100
TZOFFSETTO:+0000
TZNAME:GMT
DTSTART:20241027T010000
END:STANDARD
BEGIN:DAYLIGHT
TZOFFSETFROM:+0000
TZOFFSETTO:+0100
TZNAME:BST
DTSTART:20250330T010000
END:DAYLIGHT
BEGIN:STANDARD
TZOFFSETFROM:+0100
TZOFFSETTO:+0000
TZNAME:GMT
DTSTART:20251026T010000
END:STANDARD
BEGIN:DAYLIGHT
TZOFFSETFROM:+0000
TZOFFSETTO:+0100
TZNAME:BST
DTSTART:20260329T010000
END:DAYLIGHT
BEGIN:STANDARD
TZOFFSETFROM:+0100
TZOFFSETTO:+0000
TZNAME:GMT
DTSTART:20261025T010000
END:STANDARD
END:VTIMEZONE
BEGIN:VEVENT
DTSTART;TZID=Europe/London:20251213T220000
DTEND;TZID=Europe/London:20251213T233000
DTSTAMP:20260424T094306
CREATED:20251126T100402Z
LAST-MODIFIED:20251126T100402Z
UID:37479-1765663200-1765668600@calendarioeventos.com
SUMMARY:Jam Session Baires Especial 2º aniversario
DESCRIPTION:Jam Session Baires Especial 2º aniversario en el Buenos Aires Jazz Café\, Las Palmas Gran Canaria. \nCelebramos dos años de música\, arte y buena compañía en Buenos Aires Jazz Café. \nCon una noche especial llena de ritmo y talento. El evento contará con una entrega de premios a artistas y colaboradores destacados\, seguida de una JAM SESSION abierta\, donde músicos invitados y público podrán compartir el escenario. \nUna velada única para disfrutar del mejor jazz\, brindar por estos dos años de historia y seguir haciendo vibrar la escena musical de Las Palmas \nConsigue tu entrada en este enlace.
URL:https://calendarioeventos.com/en/evento/jam-session-baires-especial-2o-aniversario/
LOCATION:Buenos Aires Jazz Cafe\, C. Mendizábal\, 37\, 35001 Las Palmas de Gran Canaria\, Las Palmas
CATEGORIES:Cultura,Jam Session,Las Palmas de GC,Música,Municipio
ATTACH;FMTTYPE=image/jpeg:https://calendarioeventos.com/wp-content/uploads/2025/11/WhatsApp-Image-2025-11-13-at-13.06.30.avif
END:VEVENT
END:VCALENDAR