BEGIN:VCALENDAR
VERSION:2.0
PRODID:-//Calendario de Eventos Gran Canaria - ECPv6.15.17.1//NONSGML v1.0//EN
CALSCALE:GREGORIAN
METHOD:PUBLISH
X-WR-CALNAME:Calendario de Eventos Gran Canaria
X-ORIGINAL-URL:https://calendarioeventos.com/en
X-WR-CALDESC:Events for Calendario de Eventos Gran Canaria
REFRESH-INTERVAL;VALUE=DURATION:PT1H
X-Robots-Tag:noindex
X-PUBLISHED-TTL:PT1H
BEGIN:VTIMEZONE
TZID:Europe/London
BEGIN:DAYLIGHT
TZOFFSETFROM:+0000
TZOFFSETTO:+0100
TZNAME:BST
DTSTART:20250330T010000
END:DAYLIGHT
BEGIN:STANDARD
TZOFFSETFROM:+0100
TZOFFSETTO:+0000
TZNAME:GMT
DTSTART:20251026T010000
END:STANDARD
BEGIN:DAYLIGHT
TZOFFSETFROM:+0000
TZOFFSETTO:+0100
TZNAME:BST
DTSTART:20260329T010000
END:DAYLIGHT
BEGIN:STANDARD
TZOFFSETFROM:+0100
TZOFFSETTO:+0000
TZNAME:GMT
DTSTART:20261025T010000
END:STANDARD
BEGIN:DAYLIGHT
TZOFFSETFROM:+0000
TZOFFSETTO:+0100
TZNAME:BST
DTSTART:20270328T010000
END:DAYLIGHT
BEGIN:STANDARD
TZOFFSETFROM:+0100
TZOFFSETTO:+0000
TZNAME:GMT
DTSTART:20271031T010000
END:STANDARD
END:VTIMEZONE
BEGIN:VEVENT
DTSTART;TZID=Europe/London:20260307T200000
DTEND;TZID=Europe/London:20260307T213000
DTSTAMP:20260423T160150
CREATED:20260303T162943Z
LAST-MODIFIED:20260303T162945Z
UID:64136-1772913600-1772919000@calendarioeventos.com
SUMMARY:Jam Session - «Jam de Numetal/Rap»
DESCRIPTION:Jam Session – «Jam de Numetal/Rap» en Buganvilla Studio\, Las Palmas de Gran Canaria. \nPrimera sesión musical estilo jam centrada en sonidos de Numetal y rap organizada de forma espléndida por Vollrat con música arrolladora.
URL:https://calendarioeventos.com/en/evento/jam-session-jam-de-numetal-rap/
LOCATION:Buganvilla Studio\, Calle gravina n°9\, Las Palmas de Gran Canaria
CATEGORIES:Cultura,Jam Session,Las Palmas de GC
ATTACH;FMTTYPE=image/jpeg:https://calendarioeventos.com/wp-content/uploads/2026/03/jam-session-jam-de-numetal-rap-1772555378309.avif
END:VEVENT
END:VCALENDAR