BEGIN:VCALENDAR
VERSION:2.0
PRODID:-//Calendario de Eventos Gran Canaria - ECPv6.15.17.1//NONSGML v1.0//EN
CALSCALE:GREGORIAN
METHOD:PUBLISH
X-WR-CALNAME:Calendario de Eventos Gran Canaria
X-ORIGINAL-URL:https://calendarioeventos.com/en
X-WR-CALDESC:Events for Calendario de Eventos Gran Canaria
REFRESH-INTERVAL;VALUE=DURATION:PT1H
X-Robots-Tag:noindex
X-PUBLISHED-TTL:PT1H
BEGIN:VTIMEZONE
TZID:Europe/London
BEGIN:DAYLIGHT
TZOFFSETFROM:+0000
TZOFFSETTO:+0100
TZNAME:BST
DTSTART:20240331T010000
END:DAYLIGHT
BEGIN:STANDARD
TZOFFSETFROM:+0100
TZOFFSETTO:+0000
TZNAME:GMT
DTSTART:20241027T010000
END:STANDARD
BEGIN:DAYLIGHT
TZOFFSETFROM:+0000
TZOFFSETTO:+0100
TZNAME:BST
DTSTART:20250330T010000
END:DAYLIGHT
BEGIN:STANDARD
TZOFFSETFROM:+0100
TZOFFSETTO:+0000
TZNAME:GMT
DTSTART:20251026T010000
END:STANDARD
BEGIN:DAYLIGHT
TZOFFSETFROM:+0000
TZOFFSETTO:+0100
TZNAME:BST
DTSTART:20260329T010000
END:DAYLIGHT
BEGIN:STANDARD
TZOFFSETFROM:+0100
TZOFFSETTO:+0000
TZNAME:GMT
DTSTART:20261025T010000
END:STANDARD
END:VTIMEZONE
BEGIN:VEVENT
DTSTART;TZID=Europe/London:20251213T090000
DTEND;TZID=Europe/London:20251213T180000
DTSTAMP:20260424T051408
CREATED:20251211T172808Z
LAST-MODIFIED:20251211T172808Z
UID:42866-1765616400-1765648800@calendarioeventos.com
SUMMARY:Jornada - Educación: Familias y Escuela
DESCRIPTION:Jornada – Educación: Familias y Escuela\, bienestar y corresponsabilidad\, en el IES Pérez Galdós\, Las Palmas de Gran Canaria. \nPROGRAMA \n\nEducación emocional en casa y en el cole Juan Carlos Pérez González\nConvivencia escolar Nélida Zaitegui\nAcoso Escolar\,  riesgos de Internet… Marcos Val – Policía Tutor\nA L M U E R Z 0\nInclusión educativa Alejandro Calleja\, padre de Rubén Calleja\nSalud mental en positivo Alumnado participante del Proyecto Motor de Ciudadanía Activa del Consejo Escolar de Canarias.\nPor-no Hablar Idaira Alemán y Daniel Rodríguez\n\nEntradas en este enlace.
URL:https://calendarioeventos.com/en/evento/jornada-educacion-familias-y-escuela/
LOCATION:IES Pérez Galdós\, P.º Tomás Morales\, 37\, 35003 Las Palmas de Gran Canaria\, Las Palmas
CATEGORIES:Actividades,Charla,Eventos gratuitos,Gastronomía,Las Palmas de GC
ATTACH;FMTTYPE=image/jpeg:https://calendarioeventos.com/wp-content/uploads/2025/12/597764045_25644415301843582_5456726580085628083_n.avif
END:VEVENT
END:VCALENDAR