BEGIN:VCALENDAR
VERSION:2.0
PRODID:-//Calendario de Eventos Gran Canaria - ECPv6.15.17.1//NONSGML v1.0//EN
CALSCALE:GREGORIAN
METHOD:PUBLISH
X-WR-CALNAME:Calendario de Eventos Gran Canaria
X-ORIGINAL-URL:https://calendarioeventos.com/en
X-WR-CALDESC:Events for Calendario de Eventos Gran Canaria
REFRESH-INTERVAL;VALUE=DURATION:PT1H
X-Robots-Tag:noindex
X-PUBLISHED-TTL:PT1H
BEGIN:VTIMEZONE
TZID:Europe/London
BEGIN:DAYLIGHT
TZOFFSETFROM:+0000
TZOFFSETTO:+0100
TZNAME:BST
DTSTART:20250330T010000
END:DAYLIGHT
BEGIN:STANDARD
TZOFFSETFROM:+0100
TZOFFSETTO:+0000
TZNAME:GMT
DTSTART:20251026T010000
END:STANDARD
BEGIN:DAYLIGHT
TZOFFSETFROM:+0000
TZOFFSETTO:+0100
TZNAME:BST
DTSTART:20260329T010000
END:DAYLIGHT
BEGIN:STANDARD
TZOFFSETFROM:+0100
TZOFFSETTO:+0000
TZNAME:GMT
DTSTART:20261025T010000
END:STANDARD
BEGIN:DAYLIGHT
TZOFFSETFROM:+0000
TZOFFSETTO:+0100
TZNAME:BST
DTSTART:20270328T010000
END:DAYLIGHT
BEGIN:STANDARD
TZOFFSETFROM:+0100
TZOFFSETTO:+0000
TZNAME:GMT
DTSTART:20271031T010000
END:STANDARD
END:VTIMEZONE
BEGIN:VEVENT
DTSTART;TZID=Europe/London:20260308T100000
DTEND;TZID=Europe/London:20260308T140000
DTSTAMP:20260423T144527
CREATED:20260304T185931Z
LAST-MODIFIED:20260304T190004Z
UID:64408-1772964000-1772978400@calendarioeventos.com
SUMMARY:Jornada - «Espacio de Encuentro Experiencial para Mujeres»
DESCRIPTION:Jornada – «Espacio de Encuentro Experiencial para Mujeres» en la Casa de la Cultura\, Moya\, Gran Canaria. \nLa Villa de Moya celebra el Día Internacional de la Mujer con una mañana pensada para el bienestar y la conexión femenina.  \nEn la Casa de la Cultura se desarrollarán talleres simultáneos en un espacio de encuentro y crecimiento compartido. \n Inscripciones gratuitas en Servicios Sociales: 928 61 12 55 · Ext. 300.  \nLa jornada culminará con la actuación musical de Yamilei Cruz\, poniendo voz a una mañana muy especial.
URL:https://calendarioeventos.com/en/evento/jornada-espacio-de-encuentro-experiencial-para-mujeres/
LOCATION:Moya
CATEGORIES:Actividades,Eventos gratuitos,Música,Moya,Taller
ATTACH;FMTTYPE=image/jpeg:https://calendarioeventos.com/wp-content/uploads/2026/03/jornada-espacio-de-encuentro-experiencial-para-1772650741606.avif
END:VEVENT
END:VCALENDAR