BEGIN:VCALENDAR
VERSION:2.0
PRODID:-//Calendario de Eventos Gran Canaria - ECPv6.15.17.1//NONSGML v1.0//EN
CALSCALE:GREGORIAN
METHOD:PUBLISH
X-WR-CALNAME:Calendario de Eventos Gran Canaria
X-ORIGINAL-URL:https://calendarioeventos.com/en
X-WR-CALDESC:Events for Calendario de Eventos Gran Canaria
REFRESH-INTERVAL;VALUE=DURATION:PT1H
X-Robots-Tag:noindex
X-PUBLISHED-TTL:PT1H
BEGIN:VTIMEZONE
TZID:Europe/London
BEGIN:DAYLIGHT
TZOFFSETFROM:+0000
TZOFFSETTO:+0100
TZNAME:BST
DTSTART:20250330T010000
END:DAYLIGHT
BEGIN:STANDARD
TZOFFSETFROM:+0100
TZOFFSETTO:+0000
TZNAME:GMT
DTSTART:20251026T010000
END:STANDARD
BEGIN:DAYLIGHT
TZOFFSETFROM:+0000
TZOFFSETTO:+0100
TZNAME:BST
DTSTART:20260329T010000
END:DAYLIGHT
BEGIN:STANDARD
TZOFFSETFROM:+0100
TZOFFSETTO:+0000
TZNAME:GMT
DTSTART:20261025T010000
END:STANDARD
BEGIN:DAYLIGHT
TZOFFSETFROM:+0000
TZOFFSETTO:+0100
TZNAME:BST
DTSTART:20270328T010000
END:DAYLIGHT
BEGIN:STANDARD
TZOFFSETFROM:+0100
TZOFFSETTO:+0000
TZNAME:GMT
DTSTART:20271031T010000
END:STANDARD
END:VTIMEZONE
BEGIN:VEVENT
DTSTART;TZID=Europe/London:20260319T090000
DTEND;TZID=Europe/London:20260319T103000
DTSTAMP:20260419T185245
CREATED:20260313T114157Z
LAST-MODIFIED:20260323T195817Z
UID:10015176-1773910800-1773916200@calendarioeventos.com
SUMMARY:Jornadas - Los Pozos del Olvido
DESCRIPTION:Jornadas «Los Pozos del Olvido» de la Asociación por la Memoria Histórica de Arucas (AMHA) en Arucas\, Gran Canaria. \nPrograma: \nLUNES 16 DE MARZO \n\n\n09:00 h. Visita escolar: Ruta por los lugares de la memoria traumática. De cursos del IES Guanarteme (Las Palmas de Gran Canaria)\, visionado del vídeo «Los Pozos del Olvido» y encuentro con Pino Sosa Sosa\, presidenta de la AMHA. (Casco de Arucas y sede de la AMHA). \n\n\nJUEVES 19 DE MARZO \n\n\n09:00 h. Visita: Ruta por los lugares de la memoria traumática. Un curso del IES Gran Canaria (Las Palmas de Gran Canaria)\, visionado del vídeo «Los Pozos del Olvido» y encuentro con Pino Sosa Sosa\, presidenta de la AMHA. (Casco de Arucas y sede de la AMHA). \n\n\nJUEVES 26 DE MARZO \n\n\n20:00 h. Proyección del corto-documental: «Los Pozos del Olvido» y debate posterior con la participación de Pino Sosa Sosa. Colaboran: Comisión de Debate Social Ágora (Asamblea Valsequillera) y el Ayuntamiento de Valsequillo. (Teatro Municipal Cronista Jacinto Suárez Martel\, Valsequillo). \n\n\nVIERNES 27 DE MARZO \n\n\n19:00 h. Mesa redonda: La memoria histórica; experiencias educativas. Con la participación de María Rodríguez Camacho (profesora de Geografía e Historia)\, Antonio Bellido Recio (profesor de francés\, ambos del proyecto ERASMUS+ del IES Puerto del Rosario)\, Candelaria González Rodríguez (profesora del Departamento de Ciencias Históricas y coordinadora de la materia de Historia de España (PAU) de la ULPGC) y Octavio Gómez Santana (profesor de Geografía e Historia del IES Las Huesas\, Telde). Modera: Inma Suárez Gutiérrez. (Casa de la Cultura\, c/ Gourié\, 3\, Arucas). \n\n\nSÁBADO 28 DE MARZO \n\n\n11:00 h. HOMENAJE EN EL POZO DEL PUENTE DE ARUCAS A LOS DESAPARECIDOS – OFRENDA FLORAL. Interviene: Pino Sosa Sosa\, presidenta de la AMHA. (Pozo del Puente de Arucas y Cementerio municipal). \n\n\n12:30 h. VISITA: RUTA POR LOS LUGARES DE LA MEMORIA TRAUMÁTICA con grupo abierto a la participación. Salida desde la sede de la AMHA (Plaza de la Constitución\, 4). \n\n\n14:00 h. CLAUSURA DE LAS EXPOSICIONES «LOS POZOS DEL OLVIDO» DE LA AMHA. (Casa de la Cultura\, c/ Gourié\, 3\, Arucas). \n\n\n19:00 h. CHARLA/DEBATE: LA GOMERA\, RECUPERANDO SU MEMORIA HISTÓRICA. Con la participación de Ventura del Carmen y Josefina Rodríguez Herrera\, Pino Sosa Sosa\, presidenta de la AMHA. Modera: Inma Suárez Gutiérrez. (Casa de la Cultura\, c/ Gourié\, 3\, Arucas). \n\n\nDOMINGO 29 DE MARZO \n\n\n11:00 h. HOMENAJE EN EL POZO DEL PUENTE DE TENOYA A LOS DESAPARECIDOS – OFRENDA FLORAL. Iniciativa de la Asociación de Vecinos Atis (San Francisco Javier – Arucas). (Pozo del Barranco de Tenoya – bajo el puente). \n\n\n12:00 h. CLAUSURA DE LAS JORNADAS «LOS POZOS DEL OLVIDO» DE LA AMHA. \n\n\n\nEXPOSICIONES\n\n\nExposiciones Conjuntas: «Recuperación de la memoria histórica de la represión franquista en Canarias: fuentes escritas y orales» de la ULPGC\, muestra de la exposición «Los Pozos del Olvido» y exposición fotográfica «Homenajes para el recuerdo de las víctimas» de Mónica Rodríguez Medina. (Del 13 al 28 de marzo\, Casa de la Cultura\, c/ Gourié\, 3\, Arucas). \n\n\nExposición Fija: «Los Pozos del Olvido». (Del 13 al 28 de marzo\, Sede de la AMHA\, Plaza de la Constitución\, 4\, Arucas).
URL:https://calendarioeventos.com/en/evento/jornadas-los-pozos-del-olvido/2026-03-19/
LOCATION:Arucas
CATEGORIES:Actividades,Arucas,Charla,Documental,Eventos gratuitos,Visita Guiada
ATTACH;FMTTYPE=image/png:https://calendarioeventos.com/wp-content/uploads/2026/03/Screenshot-2026-03-23-at-19-54-15-Cuarta-Semana-•-Instagram.avif
END:VEVENT
END:VCALENDAR