BEGIN:VCALENDAR
VERSION:2.0
PRODID:-//Calendario de Eventos Gran Canaria - ECPv6.15.17.1//NONSGML v1.0//EN
CALSCALE:GREGORIAN
METHOD:PUBLISH
X-WR-CALNAME:Calendario de Eventos Gran Canaria
X-ORIGINAL-URL:https://calendarioeventos.com/en
X-WR-CALDESC:Events for Calendario de Eventos Gran Canaria
REFRESH-INTERVAL;VALUE=DURATION:PT1H
X-Robots-Tag:noindex
X-PUBLISHED-TTL:PT1H
BEGIN:VTIMEZONE
TZID:Europe/London
BEGIN:DAYLIGHT
TZOFFSETFROM:+0000
TZOFFSETTO:+0100
TZNAME:BST
DTSTART:20240331T010000
END:DAYLIGHT
BEGIN:STANDARD
TZOFFSETFROM:+0100
TZOFFSETTO:+0000
TZNAME:GMT
DTSTART:20241027T010000
END:STANDARD
BEGIN:DAYLIGHT
TZOFFSETFROM:+0000
TZOFFSETTO:+0100
TZNAME:BST
DTSTART:20250330T010000
END:DAYLIGHT
BEGIN:STANDARD
TZOFFSETFROM:+0100
TZOFFSETTO:+0000
TZNAME:GMT
DTSTART:20251026T010000
END:STANDARD
BEGIN:DAYLIGHT
TZOFFSETFROM:+0000
TZOFFSETTO:+0100
TZNAME:BST
DTSTART:20260329T010000
END:DAYLIGHT
BEGIN:STANDARD
TZOFFSETFROM:+0100
TZOFFSETTO:+0000
TZNAME:GMT
DTSTART:20261025T010000
END:STANDARD
END:VTIMEZONE
BEGIN:VEVENT
DTSTART;TZID=Europe/London:20251204T100000
DTEND;TZID=Europe/London:20251204T140000
DTSTAMP:20260425T171934
CREATED:20251203T225819Z
LAST-MODIFIED:20251203T225819Z
UID:40129-1764842400-1764856800@calendarioeventos.com
SUMMARY:Jornadas - Mujeres que habitan
DESCRIPTION:Jornadas de Género en el ámbito Urbano\, Urbanismo y Planificación Territorial «Mujeres que habitan: perspectiva de género y migración en el territorio canario” en Casa África\, Las Palmas de Gran Canaria. \nEsta edición pone el foco en las experiencias de vida de mujeres migrantes que han llegado a Canarias desde distintos continentes —especialmente África y Latinoamérica— y en cómo han construido sus procesos de arraigo en el archipiélago. \nInscripción en este enlace. \nMás info: https://www.casafrica.es/es/evento/mujeres-que-habitan
URL:https://calendarioeventos.com/en/evento/jornadas-mujeres-que-habitan/
LOCATION:Casa África\, C/ Alfonso XIII\, 5\, Las Palmas de Gran Canaria\, Las Palmas de Gran Canaria\, 35003\, Spain
CATEGORIES:Actividades,Charla,Eventos gratuitos,Las Palmas de GC
ATTACH;FMTTYPE=image/png:https://calendarioeventos.com/wp-content/uploads/2025/12/Screenshot-2025-12-03-at-22-55-09-Instagram.avif
END:VEVENT
END:VCALENDAR