BEGIN:VCALENDAR
VERSION:2.0
PRODID:-//Calendario de Eventos Gran Canaria - ECPv6.15.17.1//NONSGML v1.0//EN
CALSCALE:GREGORIAN
METHOD:PUBLISH
X-WR-CALNAME:Calendario de Eventos Gran Canaria
X-ORIGINAL-URL:https://calendarioeventos.com/en
X-WR-CALDESC:Events for Calendario de Eventos Gran Canaria
REFRESH-INTERVAL;VALUE=DURATION:PT1H
X-Robots-Tag:noindex
X-PUBLISHED-TTL:PT1H
BEGIN:VTIMEZONE
TZID:Europe/London
BEGIN:DAYLIGHT
TZOFFSETFROM:+0000
TZOFFSETTO:+0100
TZNAME:BST
DTSTART:20240331T010000
END:DAYLIGHT
BEGIN:STANDARD
TZOFFSETFROM:+0100
TZOFFSETTO:+0000
TZNAME:GMT
DTSTART:20241027T010000
END:STANDARD
BEGIN:DAYLIGHT
TZOFFSETFROM:+0000
TZOFFSETTO:+0100
TZNAME:BST
DTSTART:20250330T010000
END:DAYLIGHT
BEGIN:STANDARD
TZOFFSETFROM:+0100
TZOFFSETTO:+0000
TZNAME:GMT
DTSTART:20251026T010000
END:STANDARD
BEGIN:DAYLIGHT
TZOFFSETFROM:+0000
TZOFFSETTO:+0100
TZNAME:BST
DTSTART:20260329T010000
END:DAYLIGHT
BEGIN:STANDARD
TZOFFSETFROM:+0100
TZOFFSETTO:+0000
TZNAME:GMT
DTSTART:20261025T010000
END:STANDARD
END:VTIMEZONE
BEGIN:VEVENT
DTSTART;TZID=Europe/London:20251112T170000
DTEND;TZID=Europe/London:20251112T200000
DTSTAMP:20260419T184548
CREATED:20251106T171442Z
LAST-MODIFIED:20251106T171442Z
UID:10008888-1762966800-1762977600@calendarioeventos.com
SUMMARY:Jornadas - Paisaje del Sonido
DESCRIPTION:III Jornadas de Patrimonio del Instituto Canario de las Tradiciones «Paisaje del Sonido: crear\, tocar y componer» en las Casas Consistoriales de Las Palmas de Gran Canaria. \nTe invitamos a participar en estas jornadas dedicadas a explorar el sonido como parte esencial de nuestro patrimonio cultural. \nInscríbete aquí: Enlace en la Bio https://forms.gle/fh6dgNsQiVzEndWo6 \n12 de noviembre de 2025\n\n17:00 | Bienvenida y presentación\n17:30 – 18:30 | Ponencia 1\nTítulo: Instrumentos tradicionales: identidad\, memoria y territorio.\nPonente: Aníbal García Llarena. \n18:30 – 19:30 | Ponencia 2\nTítulo: ¿Estudias\, trabajas o eres timplista?\nPonente: Benito Cabrera\n\n \n13 noviembre de 2025\n\n17:00 | Bienvenida y presentación\n17:30 – 18:30 | Ponencia 1\nTítulo: Arreglos de Autor; un proyecto de creación musical donde el folklore está presente.\nPonente: Sebastián Gil\n\n18:30 – 19:30 | Ponencia 2\nTítulo: Raíces Populares\, sonidos universales; Influencias de la música popular en la música\nacadémica.\nPonente: Rafael Sánchez-Araña
URL:https://calendarioeventos.com/en/evento/jornadas-paisaje-del-sonido/2025-11-12/
LOCATION:Casas Consistoriales de Las Palmas de Gran Canaria\, 35001 Las Palmas de Gran Canaria\, Las Palmas
CATEGORIES:Actividades,Charla,Eventos gratuitos,Las Palmas de GC,Música
ATTACH;FMTTYPE=image/png:https://calendarioeventos.com/wp-content/uploads/2025/11/Screenshot-2025-11-06-at-17-10-53-Segunda-Semana-•-Instagram.avif
END:VEVENT
END:VCALENDAR