BEGIN:VCALENDAR
VERSION:2.0
PRODID:-//Calendario de Eventos Gran Canaria - ECPv6.15.17.1//NONSGML v1.0//EN
CALSCALE:GREGORIAN
METHOD:PUBLISH
X-WR-CALNAME:Calendario de Eventos Gran Canaria
X-ORIGINAL-URL:https://calendarioeventos.com/en
X-WR-CALDESC:Events for Calendario de Eventos Gran Canaria
REFRESH-INTERVAL;VALUE=DURATION:PT1H
X-Robots-Tag:noindex
X-PUBLISHED-TTL:PT1H
BEGIN:VTIMEZONE
TZID:Europe/London
BEGIN:DAYLIGHT
TZOFFSETFROM:+0000
TZOFFSETTO:+0100
TZNAME:BST
DTSTART:20250330T010000
END:DAYLIGHT
BEGIN:STANDARD
TZOFFSETFROM:+0100
TZOFFSETTO:+0000
TZNAME:GMT
DTSTART:20251026T010000
END:STANDARD
BEGIN:DAYLIGHT
TZOFFSETFROM:+0000
TZOFFSETTO:+0100
TZNAME:BST
DTSTART:20260329T010000
END:DAYLIGHT
BEGIN:STANDARD
TZOFFSETFROM:+0100
TZOFFSETTO:+0000
TZNAME:GMT
DTSTART:20261025T010000
END:STANDARD
BEGIN:DAYLIGHT
TZOFFSETFROM:+0000
TZOFFSETTO:+0100
TZNAME:BST
DTSTART:20270328T010000
END:DAYLIGHT
BEGIN:STANDARD
TZOFFSETFROM:+0100
TZOFFSETTO:+0000
TZNAME:GMT
DTSTART:20271031T010000
END:STANDARD
END:VTIMEZONE
BEGIN:VEVENT
DTSTART;TZID=Europe/London:20260304T180000
DTEND;TZID=Europe/London:20260304T200000
DTSTAMP:20260423T221854
CREATED:20260226T210924Z
LAST-MODIFIED:20260226T211033Z
UID:10014517-1772647200-1772654400@calendarioeventos.com
SUMMARY:Jornadas — «Por una rebelión en el turismo»
DESCRIPTION:Jornadas — Por una rebelión en el turismo en El Soco – Participa Gran Canaria\, Las Palmas de Gran Canaria. \nEspacioGuía pone en marcha las jornadas sobre Turismo Activo-Cultural (TAC) del 3 al 6 de marzo de 2026\, contando con el apoyo de LPGC 2031. Este encuentro se presenta como un espacio de reflexión y diálogo para buscar soluciones desde el ámbito de la cultura frente al modelo turístico actual. El evento tendrá lugar en El Soco\, sede de Participa Gran Canaria en el antiguo local de Cuasquías. \nA través de diversas sesiones\, se contará con la participación de especialistas en gestión y mediación cultural\, economía\, arte\, comunicación\, arquitectura\, filosofía e investigación de la ULPGC. La iniciativa busca promover un turismo que sume y no reste\, libre de turistificación\, apostando por experiencias sostenibles y un conocimiento profundo de la tierra y sus habitantes. El objetivo es generar un giro en las narrativas estereotipadas para frenar la masificación en beneficio mutuo de visitantes y residentes. Organiza EspacioGuía con la colaboración del Ayuntamiento de Las Palmas de Gran Canaria y Participa Gran Canaria. \nPrograma:  \nMartes 3:\n18-19h – TAC\, un concepto ‘handmade in Canarias’\n19-20h – Atraer turistas y fortalecer comunidades. \nMiércoles 4:\n18-19h – Los marcos mentales del turismo.\n19-20h – La turistificación vista desde el Risco. \nJueves 5:\n18-19h – Dar y recibir\, en el viaje y en la vida.\n19-20h – Educar en turismo. \nViernes 6:\n17-18h – Economía social y turismo responsable.\n18-19h – El rol del gestor cultural en el nuevo turismo.\n19-20h – Presentación publicaciones.
URL:https://calendarioeventos.com/en/evento/jornadas-por-una-rebelion-en-el-turismo/2026-03-04/
LOCATION:Plaza Ntra. Sra. del Socorro\, 35360 Tejeda\, Las Palmas
CATEGORIES:Actividades,Charla,Eventos gratuitos,Las Palmas de GC
ATTACH;FMTTYPE=image/jpeg:https://calendarioeventos.com/wp-content/uploads/2026/02/641604306_18047485607509891_7108742913233977617_n-PjMua1.avif
END:VEVENT
END:VCALENDAR