BEGIN:VCALENDAR
VERSION:2.0
PRODID:-//Calendario de Eventos Gran Canaria - ECPv6.15.17.1//NONSGML v1.0//EN
CALSCALE:GREGORIAN
METHOD:PUBLISH
X-WR-CALNAME:Calendario de Eventos Gran Canaria
X-ORIGINAL-URL:https://calendarioeventos.com/en
X-WR-CALDESC:Events for Calendario de Eventos Gran Canaria
REFRESH-INTERVAL;VALUE=DURATION:PT1H
X-Robots-Tag:noindex
X-PUBLISHED-TTL:PT1H
BEGIN:VTIMEZONE
TZID:Europe/London
BEGIN:DAYLIGHT
TZOFFSETFROM:+0000
TZOFFSETTO:+0100
TZNAME:BST
DTSTART:20240331T010000
END:DAYLIGHT
BEGIN:STANDARD
TZOFFSETFROM:+0100
TZOFFSETTO:+0000
TZNAME:GMT
DTSTART:20241027T010000
END:STANDARD
BEGIN:DAYLIGHT
TZOFFSETFROM:+0000
TZOFFSETTO:+0100
TZNAME:BST
DTSTART:20250330T010000
END:DAYLIGHT
BEGIN:STANDARD
TZOFFSETFROM:+0100
TZOFFSETTO:+0000
TZNAME:GMT
DTSTART:20251026T010000
END:STANDARD
BEGIN:DAYLIGHT
TZOFFSETFROM:+0000
TZOFFSETTO:+0100
TZNAME:BST
DTSTART:20260329T010000
END:DAYLIGHT
BEGIN:STANDARD
TZOFFSETFROM:+0100
TZOFFSETTO:+0000
TZNAME:GMT
DTSTART:20261025T010000
END:STANDARD
END:VTIMEZONE
BEGIN:VEVENT
DTSTART;TZID=Europe/London:20251113T090000
DTEND;TZID=Europe/London:20251113T193000
DTSTAMP:20260419T172010
CREATED:20251031T084147Z
LAST-MODIFIED:20251031T084147Z
UID:27626-1763024400-1763062200@calendarioeventos.com
SUMMARY:Jornadas Regionales AFC
DESCRIPTION:II Jornadas Regionales AFC (Asociación de Asesores Fiscales de Canarias) en su Sede Social\, Las Palmas de Gran Canaria. \nC/ Olof Palme nº43 2ºA \n\n\nUn espacio para el desarrollo profesional y actualización.\n\n\n\n\nTras el éxito de nuestra primera edición\, las II Jornadas Regionales de la Asociación de Asesores Fiscales de Canarias (AFC) en 2025 volverá a ser una cita esencial para el desarrollo profesional y la actualización de conocimientos entre los los profesionales de nuestro archipiélago. \nEste año\, consolidamos un espacio para analizar en profundidad y actualizar conocimientos sobre las dinámicas más recientes en tributación\, normativa fiscal y su aplicación práctica dentro de la Comunidad Autónoma. \nInscripciones en este enlace. \n\n\nPrograma\n\n\n\n\nSesión de mañana\n\n\n\n\n9:00 – 9:15 |\nRegistro y entrega de material \n09:15 – 09:25 |\nBienvenida y presentación de la jornada\, programa y ponentes a cargo de Juan Luis Alayón García\, Presidente de la AFC \n09:25 – 09:35 |\nInauguración de la jornada a cargo de Antonio Morales Presidente del Cabildo de Gran Canaria \n09:35 – 09:40 |\nEspacio FETTAF \n09:40 – 10:00 |\nPresentación Libro «Fiscalidad Canaria II. La Vigencia de los Fueros»\, a cargo de Juan Luis Alayón García \n10:00 – 11:00 |\nDerecho al Error \nJavier Martín Fernández\nJoan Torres Torres \n11:00 – 11:30 | Coffee Break \n11:30 – 12:30 |\nNovedades en materia de facturación\, para PYMES y autónomos : VERI*FACTU \nJavier Hurtado Puerta \n12:30 – 13:30 | \nLa importancia de las obligaciones formales en los regímenes de la RIC y DIC \nSalvador Miranda Calderín \nFin sesión de mañana \n\n\n\n\n\n\n\nSesión de tarde\n\n\n\n\n16:30 – 17:30 |\nZEC – Una Oportunidad de Negocio \nPablo Hernández González-Barreda \n17:30 – 18:30 | Mesa Redonda\nLa singularidad fiscal de Canarias: equilibrio entre incentivo\, control y desarrollo \nOrlando Luján Mascareño\nRoque Florido Caño\nMaría Teresa Martínez-Escribano \n18:30 | Clausura de las jornadas a cargo del moderador Carlos F. Talavera Quevedo
URL:https://calendarioeventos.com/en/evento/jornadas-regionales-afc/
LOCATION:Asociación de Asesores Fiscales de Canarias\, C. Olof Palme\, 43\, 35010 Las Palmas de Gran Canaria\, Las Palmas
CATEGORIES:Actividades,Charla,Las Palmas de GC
ATTACH;FMTTYPE=image/png:https://calendarioeventos.com/wp-content/uploads/2025/10/Logo_JR25_AFC_hor-scaled.avif
END:VEVENT
END:VCALENDAR