BEGIN:VCALENDAR
VERSION:2.0
PRODID:-//Calendario de Eventos Gran Canaria - ECPv6.15.17.1//NONSGML v1.0//EN
CALSCALE:GREGORIAN
METHOD:PUBLISH
X-WR-CALNAME:Calendario de Eventos Gran Canaria
X-ORIGINAL-URL:https://calendarioeventos.com/en
X-WR-CALDESC:Events for Calendario de Eventos Gran Canaria
REFRESH-INTERVAL;VALUE=DURATION:PT1H
X-Robots-Tag:noindex
X-PUBLISHED-TTL:PT1H
BEGIN:VTIMEZONE
TZID:Europe/London
BEGIN:DAYLIGHT
TZOFFSETFROM:+0000
TZOFFSETTO:+0100
TZNAME:BST
DTSTART:20250330T010000
END:DAYLIGHT
BEGIN:STANDARD
TZOFFSETFROM:+0100
TZOFFSETTO:+0000
TZNAME:GMT
DTSTART:20251026T010000
END:STANDARD
BEGIN:DAYLIGHT
TZOFFSETFROM:+0000
TZOFFSETTO:+0100
TZNAME:BST
DTSTART:20260329T010000
END:DAYLIGHT
BEGIN:STANDARD
TZOFFSETFROM:+0100
TZOFFSETTO:+0000
TZNAME:GMT
DTSTART:20261025T010000
END:STANDARD
BEGIN:DAYLIGHT
TZOFFSETFROM:+0000
TZOFFSETTO:+0100
TZNAME:BST
DTSTART:20270328T010000
END:DAYLIGHT
BEGIN:STANDARD
TZOFFSETFROM:+0100
TZOFFSETTO:+0000
TZNAME:GMT
DTSTART:20271031T010000
END:STANDARD
END:VTIMEZONE
BEGIN:VEVENT
DTSTART;TZID=Europe/London:20260228T090000
DTEND;TZID=Europe/London:20260228T133000
DTSTAMP:20260420T031535
CREATED:20260225T231147Z
LAST-MODIFIED:20260225T231149Z
UID:62140-1772269200-1772285400@calendarioeventos.com
SUMMARY:Jóvenes - «Escalada Indoor»
DESCRIPTION:Deporte para jóvenes — «Escalada Indoor» en Climbing World Gran Canaria\, organizada por el Ayuntamiento de Agaete\, Gran Canaria. \nLa Concejalía de Juventud del Ayuntamiento de Agaete abre la inscripción para una actividad de Escalada Indoor dirigida a jóvenes de entre 12 y 30 años. Se celebrará el próximo 28 de febrero en las instalaciones de Climbing World Gran Canaria\, en El Sebadal. \nLos interesados pueden formalizar su inscripción a través del correo electrónico juventud@agaete.es o presencialmente en la Oficina de Juventud situada en el Parque Popular en horario de 10:00 a 14:00 horas. \nLa actividad incluye desayuno y las plazas son limitadas. Se asignarán por orden de inscripción\, dando prioridad a los jóvenes empadronados en el municipio. Los participantes deben aportar sus datos personales y los menores necesitarán autorización firmada. La salida será desde la Plaza de la Constitución a las 9:00 horas.
URL:https://calendarioeventos.com/en/evento/jovenes-escalada-indoor/
LOCATION:Climbing World Gran Canaria\, Calle Dr. Juan Domínguez Pérez\, 47\, 35008 Las Palmas de Gran Canaria\, Las Palmas
CATEGORIES:Actividades,Agaete,Deporte,Eventos gratuitos,Jóvenes
ATTACH;FMTTYPE=image/jpeg:https://calendarioeventos.com/wp-content/uploads/2026/02/j-venes-escalada-indoor-1772061101980.avif
END:VEVENT
END:VCALENDAR