BEGIN:VCALENDAR
VERSION:2.0
PRODID:-//Calendario de Eventos Gran Canaria - ECPv6.15.17.1//NONSGML v1.0//EN
CALSCALE:GREGORIAN
METHOD:PUBLISH
X-WR-CALNAME:Calendario de Eventos Gran Canaria
X-ORIGINAL-URL:https://calendarioeventos.com/en
X-WR-CALDESC:Events for Calendario de Eventos Gran Canaria
REFRESH-INTERVAL;VALUE=DURATION:PT1H
X-Robots-Tag:noindex
X-PUBLISHED-TTL:PT1H
BEGIN:VTIMEZONE
TZID:Europe/London
BEGIN:DAYLIGHT
TZOFFSETFROM:+0000
TZOFFSETTO:+0100
TZNAME:BST
DTSTART:20240331T010000
END:DAYLIGHT
BEGIN:STANDARD
TZOFFSETFROM:+0100
TZOFFSETTO:+0000
TZNAME:GMT
DTSTART:20241027T010000
END:STANDARD
BEGIN:DAYLIGHT
TZOFFSETFROM:+0000
TZOFFSETTO:+0100
TZNAME:BST
DTSTART:20250330T010000
END:DAYLIGHT
BEGIN:STANDARD
TZOFFSETFROM:+0100
TZOFFSETTO:+0000
TZNAME:GMT
DTSTART:20251026T010000
END:STANDARD
BEGIN:DAYLIGHT
TZOFFSETFROM:+0000
TZOFFSETTO:+0100
TZNAME:BST
DTSTART:20260329T010000
END:DAYLIGHT
BEGIN:STANDARD
TZOFFSETFROM:+0100
TZOFFSETTO:+0000
TZNAME:GMT
DTSTART:20261025T010000
END:STANDARD
END:VTIMEZONE
BEGIN:VEVENT
DTSTART;TZID=Europe/London:20251218T200000
DTEND;TZID=Europe/London:20251218T220000
DTSTAMP:20260421T034327
CREATED:20251209T201223Z
LAST-MODIFIED:20251212T101524Z
UID:42210-1766088000-1766095200@calendarioeventos.com
SUMMARY:Jóvenes - Eventazo final Noctámbulos
DESCRIPTION:Jóvenes – Eventazo final del programa «Noctámbulos» en el Espacio La Grada\, Las Palmas de Gran Canaria. \n\nEste año 2025 queremos cerrar la experiencia con algo especial. \nTanto si  has tenido la oportunidad de pasarte a disfrutar de un finde con más noctambulas y noctámbulos como tú\, que tenían ganas de pegarse una salida nocturna con un rollo diferente (scaperooms\, noches de juegos de mesa\, disfrutar de espacios que no se abren al público normalmente para disfrutar del una clase de yoga a la luz de la luna o formar parte de un entrenamiento circense\, pelis con chuches «de las sanas» y debate… infinidad de cosas se han hecho la verdad… -puede que nos faltara karaoke-… ¿sugerencias para el 2026? \nBueno pues eso\, tanto si quieres reencontrarte con alguien que conociste una noche loca de risas este verano y proponer mas cosas\, como si quieres conocer de primera mano qué es NOCTAMBULOS… \nPÁSATE POR LA GRADA CUALQUIER DIA DE LA SEMANA ¡ALLI ESTAMOS SIEMPRE!… ¡PERO EL EVENTO FINAL ES EL 18 A LAS 20:00! \n\nPLAZAS HASTA COMPLETAR AFORO… SI SOMOS MUCHOS/AS YA VEREMOS COMO NOS ORGANIZAMOS. \n 
URL:https://calendarioeventos.com/en/evento/jovenes-eventazo-final-noctambulos/
LOCATION:La Grada. Espacio creativo joven\, C. Manuel González Martín\, 27\, 35006 Las Palmas de Gran Canaria\, Las Palmas
CATEGORIES:Entretenimiento,Eventos gratuitos,Jóvenes,Las Palmas de GC
ATTACH;FMTTYPE=image/png:https://calendarioeventos.com/wp-content/uploads/2025/12/Screenshot-2025-12-12-at-10-14-44-Instagram.avif
END:VEVENT
END:VCALENDAR