BEGIN:VCALENDAR
VERSION:2.0
PRODID:-//Calendario de Eventos Gran Canaria - ECPv6.15.17.1//NONSGML v1.0//EN
CALSCALE:GREGORIAN
METHOD:PUBLISH
X-WR-CALNAME:Calendario de Eventos Gran Canaria
X-ORIGINAL-URL:https://calendarioeventos.com/en
X-WR-CALDESC:Events for Calendario de Eventos Gran Canaria
REFRESH-INTERVAL;VALUE=DURATION:PT1H
X-Robots-Tag:noindex
X-PUBLISHED-TTL:PT1H
BEGIN:VTIMEZONE
TZID:Europe/London
BEGIN:DAYLIGHT
TZOFFSETFROM:+0000
TZOFFSETTO:+0100
TZNAME:BST
DTSTART:20240331T010000
END:DAYLIGHT
BEGIN:STANDARD
TZOFFSETFROM:+0100
TZOFFSETTO:+0000
TZNAME:GMT
DTSTART:20241027T010000
END:STANDARD
BEGIN:DAYLIGHT
TZOFFSETFROM:+0000
TZOFFSETTO:+0100
TZNAME:BST
DTSTART:20250330T010000
END:DAYLIGHT
BEGIN:STANDARD
TZOFFSETFROM:+0100
TZOFFSETTO:+0000
TZNAME:GMT
DTSTART:20251026T010000
END:STANDARD
BEGIN:DAYLIGHT
TZOFFSETFROM:+0000
TZOFFSETTO:+0100
TZNAME:BST
DTSTART:20260329T010000
END:DAYLIGHT
BEGIN:STANDARD
TZOFFSETFROM:+0100
TZOFFSETTO:+0000
TZNAME:GMT
DTSTART:20261025T010000
END:STANDARD
END:VTIMEZONE
BEGIN:VEVENT
DTSTART;TZID=Europe/London:20251122T180000
DTEND;TZID=Europe/London:20251122T200000
DTSTAMP:20260425T131005
CREATED:20251111T134633Z
LAST-MODIFIED:20251111T134633Z
UID:32112-1763834400-1763841600@calendarioeventos.com
SUMMARY:Jóvenes - Ninja Games
DESCRIPTION:Jóvenes – Ninja Games en Las Palmas de Gran Canaria. \nProbaremos este nuevo juego que convierte el suelo en un espacio digital interactivo y dinámico: no solo juegas\, ¡te vuelves parte del juego! \nEdad: de 14 a 30 años. \n4 turnos de 1 hora. \nInscripción en https://grancanariajoven.grancanaria.com \n 
URL:https://calendarioeventos.com/en/evento/jovenes-ninja-games/
LOCATION:The Ninja Games\, C. Almansa\, 25\, 35010 Las Palmas de Gran Canaria\, Las Palmas
CATEGORIES:Entretenimiento,Eventos gratuitos,Jóvenes,Juegos,Las Palmas de GC
ATTACH;FMTTYPE=image/png:https://calendarioeventos.com/wp-content/uploads/2025/11/Screenshot-2025-11-11-at-13-43-01-Instagram.avif
END:VEVENT
END:VCALENDAR