BEGIN:VCALENDAR
VERSION:2.0
PRODID:-//Calendario de Eventos Gran Canaria - ECPv6.15.17.1//NONSGML v1.0//EN
CALSCALE:GREGORIAN
METHOD:PUBLISH
X-WR-CALNAME:Calendario de Eventos Gran Canaria
X-ORIGINAL-URL:https://calendarioeventos.com/en
X-WR-CALDESC:Events for Calendario de Eventos Gran Canaria
REFRESH-INTERVAL;VALUE=DURATION:PT1H
X-Robots-Tag:noindex
X-PUBLISHED-TTL:PT1H
BEGIN:VTIMEZONE
TZID:Europe/London
BEGIN:DAYLIGHT
TZOFFSETFROM:+0000
TZOFFSETTO:+0100
TZNAME:BST
DTSTART:20240331T010000
END:DAYLIGHT
BEGIN:STANDARD
TZOFFSETFROM:+0100
TZOFFSETTO:+0000
TZNAME:GMT
DTSTART:20241027T010000
END:STANDARD
BEGIN:DAYLIGHT
TZOFFSETFROM:+0000
TZOFFSETTO:+0100
TZNAME:BST
DTSTART:20250330T010000
END:DAYLIGHT
BEGIN:STANDARD
TZOFFSETFROM:+0100
TZOFFSETTO:+0000
TZNAME:GMT
DTSTART:20251026T010000
END:STANDARD
BEGIN:DAYLIGHT
TZOFFSETFROM:+0000
TZOFFSETTO:+0100
TZNAME:BST
DTSTART:20260329T010000
END:DAYLIGHT
BEGIN:STANDARD
TZOFFSETFROM:+0100
TZOFFSETTO:+0000
TZNAME:GMT
DTSTART:20261025T010000
END:STANDARD
END:VTIMEZONE
BEGIN:VEVENT
DTSTART;TZID=Europe/London:20251212T180000
DTEND;TZID=Europe/London:20251212T200000
DTSTAMP:20260421T060125
CREATED:20251112T145903Z
LAST-MODIFIED:20251125T135106Z
UID:32610-1765562400-1765569600@calendarioeventos.com
SUMMARY:Jóvenes - Paint y Yoga
DESCRIPTION:Jóvenes – Paint y Yoga para jóvenes de Agüimes\, en la Sala Museo Historia de Agüimes\, Gran Canaria. \nUn espacio para conectar cuerpo y creatividad a través del yoga y la pintura. 🧘‍♀️🎨 Relájate\, fluye y expresa tu interior con color y movimiento. \nRequisitos: podrán formar parte jóvenes de 14 a 30 años. Dichas edades deberán ser cumplidas dentro del año natural. \nInscripción en este enlace. \n  \n 
URL:https://calendarioeventos.com/en/evento/jovenes-paint-y-yoga/
LOCATION:Museo de Historia\, Casa de la Cámara Episcopal\, C. Juan Alvarado y Saz\, 42\, 35260 Agüimes\, Las Palmas
CATEGORIES:Actividades,Agüimes,Deporte,Eventos gratuitos,Jóvenes,Pintura
ATTACH;FMTTYPE=image/png:https://calendarioeventos.com/wp-content/uploads/2025/11/5616535b6f4362f0c037e28dfb30087c.avif
END:VEVENT
END:VCALENDAR