BEGIN:VCALENDAR
VERSION:2.0
PRODID:-//Calendario de Eventos Gran Canaria - ECPv6.15.17.1//NONSGML v1.0//EN
CALSCALE:GREGORIAN
METHOD:PUBLISH
X-WR-CALNAME:Calendario de Eventos Gran Canaria
X-ORIGINAL-URL:https://calendarioeventos.com/en
X-WR-CALDESC:Events for Calendario de Eventos Gran Canaria
REFRESH-INTERVAL;VALUE=DURATION:PT1H
X-Robots-Tag:noindex
X-PUBLISHED-TTL:PT1H
BEGIN:VTIMEZONE
TZID:Europe/London
BEGIN:DAYLIGHT
TZOFFSETFROM:+0000
TZOFFSETTO:+0100
TZNAME:BST
DTSTART:20240331T010000
END:DAYLIGHT
BEGIN:STANDARD
TZOFFSETFROM:+0100
TZOFFSETTO:+0000
TZNAME:GMT
DTSTART:20241027T010000
END:STANDARD
BEGIN:DAYLIGHT
TZOFFSETFROM:+0000
TZOFFSETTO:+0100
TZNAME:BST
DTSTART:20250330T010000
END:DAYLIGHT
BEGIN:STANDARD
TZOFFSETFROM:+0100
TZOFFSETTO:+0000
TZNAME:GMT
DTSTART:20251026T010000
END:STANDARD
BEGIN:DAYLIGHT
TZOFFSETFROM:+0000
TZOFFSETTO:+0100
TZNAME:BST
DTSTART:20260329T010000
END:DAYLIGHT
BEGIN:STANDARD
TZOFFSETFROM:+0100
TZOFFSETTO:+0000
TZNAME:GMT
DTSTART:20261025T010000
END:STANDARD
END:VTIMEZONE
BEGIN:VEVENT
DTSTART;TZID=Europe/London:20251217T180000
DTEND;TZID=Europe/London:20251217T190000
DTSTAMP:20260425T183643
CREATED:20251211T123902Z
LAST-MODIFIED:20251211T123902Z
UID:42698-1765994400-1765998000@calendarioeventos.com
SUMMARY:Jóvenes - Repostería Navideña
DESCRIPTION:Taller de Repostería Navideña para los Jóvenes de Agüimes\, en el Espacio Jóven\, Gran Canaria. \nCon el delantal puesto y las manos en la masa\, pasaremos un dulce rato elaborando entre todos el cierre perfecto. \nInscripciones en este enlace.
URL:https://calendarioeventos.com/en/evento/jovenes-reposteria-navidena/
LOCATION:Espacio Joven de Agüimes\, Av. Ansite\, 115\, 35118 Cruce de Arinaga\, Las Palmas
CATEGORIES:Actividades,Agüimes,Eventos gratuitos,Gastronomía,Jóvenes,Taller
END:VEVENT
END:VCALENDAR