BEGIN:VCALENDAR
VERSION:2.0
PRODID:-//Calendario de Eventos Gran Canaria - ECPv6.15.17.1//NONSGML v1.0//EN
CALSCALE:GREGORIAN
METHOD:PUBLISH
X-WR-CALNAME:Calendario de Eventos Gran Canaria
X-ORIGINAL-URL:https://calendarioeventos.com/en
X-WR-CALDESC:Events for Calendario de Eventos Gran Canaria
REFRESH-INTERVAL;VALUE=DURATION:PT1H
X-Robots-Tag:noindex
X-PUBLISHED-TTL:PT1H
BEGIN:VTIMEZONE
TZID:Europe/London
BEGIN:DAYLIGHT
TZOFFSETFROM:+0000
TZOFFSETTO:+0100
TZNAME:BST
DTSTART:20240331T010000
END:DAYLIGHT
BEGIN:STANDARD
TZOFFSETFROM:+0100
TZOFFSETTO:+0000
TZNAME:GMT
DTSTART:20241027T010000
END:STANDARD
BEGIN:DAYLIGHT
TZOFFSETFROM:+0000
TZOFFSETTO:+0100
TZNAME:BST
DTSTART:20250330T010000
END:DAYLIGHT
BEGIN:STANDARD
TZOFFSETFROM:+0100
TZOFFSETTO:+0000
TZNAME:GMT
DTSTART:20251026T010000
END:STANDARD
BEGIN:DAYLIGHT
TZOFFSETFROM:+0000
TZOFFSETTO:+0100
TZNAME:BST
DTSTART:20260329T010000
END:DAYLIGHT
BEGIN:STANDARD
TZOFFSETFROM:+0100
TZOFFSETTO:+0000
TZNAME:GMT
DTSTART:20261025T010000
END:STANDARD
END:VTIMEZONE
BEGIN:VEVENT
DTSTART;TZID=Europe/London:20251217T173000
DTEND;TZID=Europe/London:20251217T193000
DTSTAMP:20260425T113443
CREATED:20251208T192116Z
LAST-MODIFIED:20251208T192116Z
UID:10010876-1765992600-1765999800@calendarioeventos.com
SUMMARY:Juegos - Campeonato de Baraja La Aldea
DESCRIPTION:Juegos – Campeonato de Baraja en el Centro de Mayores de La Aldea de San Nicolás\, Gran Canaria. \nEl Ayuntamiento de la Aldea\, a través del Área del Mayor que dirige Jennifer Sosa\, pone en marcha un Campeonato mixto de Baraja\, una actividad muy esperada por las personas usuarias del centro y que cada año fomenta la convivencia\, la participación activa y el envejecimiento activo a través del juego. \nEl campeonato se desarrollará los días 10\, 15\, 17 y 22 de diciembre\, a partir de las 17:30 horas\, en las instalaciones del propio Centro de Mayores La Aldea. \nDurante estas jornadas\, las personas participantes podrán disfrutar de este juego tan arraigado en la tradición popular. \nEl Centro de Mayores invita a todos sus usuarios y usuarias a sumarse a este campeonato y vivir unas tardes de entretenimiento\, compañerismo y diversión.
URL:https://calendarioeventos.com/en/evento/juegos-campeonato-de-baraja-la-aldea/2025-12-17/
LOCATION:Centro de Mayores de la Aldea\, C/ Real s/n\, La Aldea de San Nicolás de Tolentino\, Las Palmas\, 35470
CATEGORIES:Entretenimiento,Juegos,La Aldea,Mayores
ATTACH;FMTTYPE=image/png:https://calendarioeventos.com/wp-content/uploads/2025/12/Screenshot-2025-12-08-at-19-17-47-Instagram.avif
END:VEVENT
END:VCALENDAR