BEGIN:VCALENDAR
VERSION:2.0
PRODID:-//Calendario de Eventos Gran Canaria - ECPv6.15.17.1//NONSGML v1.0//EN
CALSCALE:GREGORIAN
METHOD:PUBLISH
X-WR-CALNAME:Calendario de Eventos Gran Canaria
X-ORIGINAL-URL:https://calendarioeventos.com/en
X-WR-CALDESC:Events for Calendario de Eventos Gran Canaria
REFRESH-INTERVAL;VALUE=DURATION:PT1H
X-Robots-Tag:noindex
X-PUBLISHED-TTL:PT1H
BEGIN:VTIMEZONE
TZID:Europe/London
BEGIN:DAYLIGHT
TZOFFSETFROM:+0000
TZOFFSETTO:+0100
TZNAME:BST
DTSTART:20250330T010000
END:DAYLIGHT
BEGIN:STANDARD
TZOFFSETFROM:+0100
TZOFFSETTO:+0000
TZNAME:GMT
DTSTART:20251026T010000
END:STANDARD
BEGIN:DAYLIGHT
TZOFFSETFROM:+0000
TZOFFSETTO:+0100
TZNAME:BST
DTSTART:20260329T010000
END:DAYLIGHT
BEGIN:STANDARD
TZOFFSETFROM:+0100
TZOFFSETTO:+0000
TZNAME:GMT
DTSTART:20261025T010000
END:STANDARD
BEGIN:DAYLIGHT
TZOFFSETFROM:+0000
TZOFFSETTO:+0100
TZNAME:BST
DTSTART:20270328T010000
END:DAYLIGHT
BEGIN:STANDARD
TZOFFSETFROM:+0100
TZOFFSETTO:+0000
TZNAME:GMT
DTSTART:20271031T010000
END:STANDARD
END:VTIMEZONE
BEGIN:VEVENT
DTSTART;TZID=Europe/London:20260313T180000
DTEND;TZID=Europe/London:20260313T193000
DTSTAMP:20260421T080457
CREATED:20260310T174011Z
LAST-MODIFIED:20260310T174012Z
UID:65331-1773424800-1773430200@calendarioeventos.com
SUMMARY:Literatura - «Book Club 'Where the wild reads are'»
DESCRIPTION:Literatura — Book Club ‘Where the wild reads are’ en Agapea\, Las Palmas de Gran Canaria. \nComenzamos una nueva actividad con toda la emoción del mundo y es que somos consciente de la gran demanda que tienen los libros en otros idiomas\, y por ello comenzamos con un Club de lectura en inglés con la traductora Bélgica García Ossorio. Un viernes al mes nos reuniremos en torno a un buen libro para conversar y conocer nuevas personas con los mismos intereses que nosotros y aunque los libros sean en inglés\, podemos comentarlo en castellano si lo prefieres.  \nInscripción en este enlace
URL:https://calendarioeventos.com/en/evento/literatura-book-club-where-the-wild-reads-are/
LOCATION:Agapea Las Palmas\, C. José Franchy Roca\, 13\, 35007 Las Palmas de Gran Canaria\, Las Palmas
CATEGORIES:Actividades,Eventos gratuitos,Las Palmas de GC,Literatura
ATTACH;FMTTYPE=image/jpeg:https://calendarioeventos.com/wp-content/uploads/2026/03/literatura-book-club-where-the-wild-reads-are-1773164409829.avif
END:VEVENT
END:VCALENDAR