BEGIN:VCALENDAR
VERSION:2.0
PRODID:-//Calendario de Eventos Gran Canaria - ECPv6.15.17.1//NONSGML v1.0//EN
CALSCALE:GREGORIAN
METHOD:PUBLISH
X-WR-CALNAME:Calendario de Eventos Gran Canaria
X-ORIGINAL-URL:https://calendarioeventos.com/en
X-WR-CALDESC:Events for Calendario de Eventos Gran Canaria
REFRESH-INTERVAL;VALUE=DURATION:PT1H
X-Robots-Tag:noindex
X-PUBLISHED-TTL:PT1H
BEGIN:VTIMEZONE
TZID:Europe/London
BEGIN:DAYLIGHT
TZOFFSETFROM:+0000
TZOFFSETTO:+0100
TZNAME:BST
DTSTART:20250330T010000
END:DAYLIGHT
BEGIN:STANDARD
TZOFFSETFROM:+0100
TZOFFSETTO:+0000
TZNAME:GMT
DTSTART:20251026T010000
END:STANDARD
BEGIN:DAYLIGHT
TZOFFSETFROM:+0000
TZOFFSETTO:+0100
TZNAME:BST
DTSTART:20260329T010000
END:DAYLIGHT
BEGIN:STANDARD
TZOFFSETFROM:+0100
TZOFFSETTO:+0000
TZNAME:GMT
DTSTART:20261025T010000
END:STANDARD
BEGIN:DAYLIGHT
TZOFFSETFROM:+0000
TZOFFSETTO:+0100
TZNAME:BST
DTSTART:20270328T010000
END:DAYLIGHT
BEGIN:STANDARD
TZOFFSETFROM:+0100
TZOFFSETTO:+0000
TZNAME:GMT
DTSTART:20271031T010000
END:STANDARD
END:VTIMEZONE
BEGIN:VEVENT
DTSTART;TZID=Europe/London:20260318T180000
DTEND;TZID=Europe/London:20260318T193000
DTSTAMP:20260419T185625
CREATED:20260311T185633Z
LAST-MODIFIED:20260311T185635Z
UID:65682-1773856800-1773862200@calendarioeventos.com
SUMMARY:Literatura - «Club de lectura Solo quería leer»
DESCRIPTION:Literatura — Club de lectura «Solo quería leer: El verano que mi madre tuvo los ojos verdes» en la Librería Agapea Las Palmas de Gran Canaria. \nCoordinado por Rocío Rivera Ocaña. Retomamos el Club de lectura generalista que comenzamos desde nuestros inicios con nuevo nombre\, coordinadora pero con el mismo espíritu crítico y además con lecturas que no nos van a dejar indeferente. En esta nueva temporada vamos a reír\, emocionarnos\, gritar y viajar hasta donde nos lleven las páginas. Apúntate a nuestros encuentros literarios para disfrutar entre amigos. \nLas lecturas de este trimestre son:Martes 13 de enero – 18:00 hComerás flores\, de Lucía Solla Sobral.Miércoles 11 de febrero – 18:00 hComentaremos: Fantástica historia de amor\, de Sophie Divry.Cambio de fecha al miércoles 18 de marzo – 18:00 hComentaremos: El verano que mi madre tuvo los ojos verdes\, de Tatiana Tibuleac. \nInscripción en este enlace
URL:https://calendarioeventos.com/en/evento/literatura-club-de-lectura-solo-queria-leer/
LOCATION:Agapea Las Palmas\, C. José Franchy Roca\, 13\, 35007 Las Palmas de Gran Canaria\, Las Palmas
CATEGORIES:Cultura,Eventos gratuitos,Las Palmas de GC,Literatura
ATTACH;FMTTYPE=image/jpeg:https://calendarioeventos.com/wp-content/uploads/2026/03/literatura-club-de-lectura-solo-quer-a-leer-1773255393524.avif
END:VEVENT
END:VCALENDAR