BEGIN:VCALENDAR
VERSION:2.0
PRODID:-//Calendario de Eventos Gran Canaria - ECPv6.15.17.1//NONSGML v1.0//EN
CALSCALE:GREGORIAN
METHOD:PUBLISH
X-WR-CALNAME:Calendario de Eventos Gran Canaria
X-ORIGINAL-URL:https://calendarioeventos.com/en
X-WR-CALDESC:Events for Calendario de Eventos Gran Canaria
REFRESH-INTERVAL;VALUE=DURATION:PT1H
X-Robots-Tag:noindex
X-PUBLISHED-TTL:PT1H
BEGIN:VTIMEZONE
TZID:Europe/London
BEGIN:DAYLIGHT
TZOFFSETFROM:+0000
TZOFFSETTO:+0100
TZNAME:BST
DTSTART:20250330T010000
END:DAYLIGHT
BEGIN:STANDARD
TZOFFSETFROM:+0100
TZOFFSETTO:+0000
TZNAME:GMT
DTSTART:20251026T010000
END:STANDARD
BEGIN:DAYLIGHT
TZOFFSETFROM:+0000
TZOFFSETTO:+0100
TZNAME:BST
DTSTART:20260329T010000
END:DAYLIGHT
BEGIN:STANDARD
TZOFFSETFROM:+0100
TZOFFSETTO:+0000
TZNAME:GMT
DTSTART:20261025T010000
END:STANDARD
BEGIN:DAYLIGHT
TZOFFSETFROM:+0000
TZOFFSETTO:+0100
TZNAME:BST
DTSTART:20270328T010000
END:DAYLIGHT
BEGIN:STANDARD
TZOFFSETFROM:+0100
TZOFFSETTO:+0000
TZNAME:GMT
DTSTART:20271031T010000
END:STANDARD
END:VTIMEZONE
BEGIN:VEVENT
DTSTART;TZID=Europe/London:20260318T183000
DTEND;TZID=Europe/London:20260318T200000
DTSTAMP:20260419T183814
CREATED:20260311T195119Z
LAST-MODIFIED:20260311T195121Z
UID:65706-1773858600-1773864000@calendarioeventos.com
SUMMARY:Literatura - «Con alma de mujer - 2026»
DESCRIPTION:Literatura — Con alma de mujer – 2026 en la Sala de actos Manuel Padorno\, Biblioteca Pública del Estado\, Las Palmas de Gran Canaria. \nEvento Literario & Musical «Con alma de mujer – 2026».  \nEntrada libre hasta completar aforo.
URL:https://calendarioeventos.com/en/evento/literatura-con-alma-de-mujer-2026/
LOCATION:Biblioteca Pública del Estado de Las Palmas\, C. Mlle. Las Palmas\, s/n\, 35003 Las Palmas de Gran Canaria\, Las Palmas
CATEGORIES:Cultura,Eventos gratuitos,Las Palmas de GC,Literatura,Música
ATTACH;FMTTYPE=image/png:https://calendarioeventos.com/wp-content/uploads/2026/03/literatura-con-alma-de-mujer-2026-1773258677323.avif
END:VEVENT
END:VCALENDAR