BEGIN:VCALENDAR
VERSION:2.0
PRODID:-//Calendario de Eventos Gran Canaria - ECPv6.15.17.1//NONSGML v1.0//EN
CALSCALE:GREGORIAN
METHOD:PUBLISH
X-WR-CALNAME:Calendario de Eventos Gran Canaria
X-ORIGINAL-URL:https://calendarioeventos.com/en
X-WR-CALDESC:Events for Calendario de Eventos Gran Canaria
REFRESH-INTERVAL;VALUE=DURATION:PT1H
X-Robots-Tag:noindex
X-PUBLISHED-TTL:PT1H
BEGIN:VTIMEZONE
TZID:Europe/London
BEGIN:DAYLIGHT
TZOFFSETFROM:+0000
TZOFFSETTO:+0100
TZNAME:BST
DTSTART:20250330T010000
END:DAYLIGHT
BEGIN:STANDARD
TZOFFSETFROM:+0100
TZOFFSETTO:+0000
TZNAME:GMT
DTSTART:20251026T010000
END:STANDARD
BEGIN:DAYLIGHT
TZOFFSETFROM:+0000
TZOFFSETTO:+0100
TZNAME:BST
DTSTART:20260329T010000
END:DAYLIGHT
BEGIN:STANDARD
TZOFFSETFROM:+0100
TZOFFSETTO:+0000
TZNAME:GMT
DTSTART:20261025T010000
END:STANDARD
BEGIN:DAYLIGHT
TZOFFSETFROM:+0000
TZOFFSETTO:+0100
TZNAME:BST
DTSTART:20270328T010000
END:DAYLIGHT
BEGIN:STANDARD
TZOFFSETFROM:+0100
TZOFFSETTO:+0000
TZNAME:GMT
DTSTART:20271031T010000
END:STANDARD
END:VTIMEZONE
BEGIN:VEVENT
DTSTART;TZID=Europe/London:20260307T110000
DTEND;TZID=Europe/London:20260307T123000
DTSTAMP:20260423T224555
CREATED:20260302T231657Z
LAST-MODIFIED:20260302T231725Z
UID:63820-1772881200-1772886600@calendarioeventos.com
SUMMARY:Literatura - Firma: «La esperanza de volver a verte»
DESCRIPTION:Literatura – Firma del Libro «La esperanza de volver a verte» en Agapea\, Las Palmas de Gran Canaria. \nEl autor Javier Cabrera Cano visitará la librería Agapea para un encuentro de firma de ejemplares de su obra La esperanza de volver a verte.  \nLos lectores podrán compartir impresiones con el escritor y obtener su dedicatoria personalizada.  \nLa actividad es de carácter gratuito y la entrada es libre hasta completar el aforo de la librería.
URL:https://calendarioeventos.com/en/evento/literatura-firma-la-esperanza-de-volver-a-verte/
LOCATION:Agapea Las Palmas\, C. José Franchy Roca\, 13\, 35007 Las Palmas de Gran Canaria\, Las Palmas
CATEGORIES:Actividades,Eventos gratuitos,Las Palmas de GC,Literatura
ATTACH;FMTTYPE=image/jpeg:https://calendarioeventos.com/wp-content/uploads/2026/03/literatura-firma-la-esperanza-de-volver-a-vert-1772493386490.avif
END:VEVENT
END:VCALENDAR